BEGIN:VCALENDAR
VERSION:2.0
PRODID:-//La Selva Beach Community Church - ECPv6.13.2.1//NONSGML v1.0//EN
CALSCALE:GREGORIAN
METHOD:PUBLISH
X-WR-CALNAME:La Selva Beach Community Church
X-ORIGINAL-URL:https://www.lsbcc.org
X-WR-CALDESC:Events for La Selva Beach Community Church
REFRESH-INTERVAL;VALUE=DURATION:PT1H
X-Robots-Tag:noindex
X-PUBLISHED-TTL:PT1H
BEGIN:VTIMEZONE
TZID:America/Denver
BEGIN:DAYLIGHT
TZOFFSETFROM:-0700
TZOFFSETTO:-0600
TZNAME:MDT
DTSTART:20230312T090000
END:DAYLIGHT
BEGIN:STANDARD
TZOFFSETFROM:-0600
TZOFFSETTO:-0700
TZNAME:MST
DTSTART:20231105T080000
END:STANDARD
BEGIN:DAYLIGHT
TZOFFSETFROM:-0700
TZOFFSETTO:-0600
TZNAME:MDT
DTSTART:20240310T090000
END:DAYLIGHT
BEGIN:STANDARD
TZOFFSETFROM:-0600
TZOFFSETTO:-0700
TZNAME:MST
DTSTART:20241103T080000
END:STANDARD
END:VTIMEZONE
BEGIN:VEVENT
DTSTART;TZID=America/Denver:20240114T100000
DTEND;TZID=America/Denver:20240114T110000
DTSTAMP:20260423T191753
CREATED:20231008T154409Z
LAST-MODIFIED:20231008T154409Z
UID:5177-1705226400-1705230000@www.lsbcc.org
SUMMARY:Sunday Service
DESCRIPTION:
URL:https://www.lsbcc.org/event/sunday-service-2024-01-14
END:VEVENT
BEGIN:VEVENT
DTSTART;TZID=America/Denver:20240110T100000
DTEND;TZID=America/Denver:20240110T103000
DTSTAMP:20260423T191753
CREATED:20231212T170100Z
LAST-MODIFIED:20231212T170100Z
UID:5268-1704880800-1704882600@www.lsbcc.org
SUMMARY:Guided Meditation
DESCRIPTION:Are you seeking a sanctuary from the holiday fray?  All are welcome Wednesdays in our beautiful sanctuary\, 10 – 10:30 am to find peace\, silence\, and stillness. Reverend Bonnie Lange guides us through simple practices\, accessible for the beginner.
URL:https://www.lsbcc.org/event/guided-meditation-2024-01-10
LOCATION:La Selva Beach Community Church\, 26 Florido Avenue\, La Selva Beach\, 95076\, United States
END:VEVENT
BEGIN:VEVENT
DTSTART;TZID=America/Denver:20240107T110000
DTEND;TZID=America/Denver:20240107T120000
DTSTAMP:20260423T191753
CREATED:20231212T220555Z
LAST-MODIFIED:20231212T220555Z
UID:5295-1704625200-1704628800@www.lsbcc.org
SUMMARY:Book Study Sundays in January
DESCRIPTION:All are welcome! We’ll meet at 11:15 – noon each Sunday in January to discuss the book\, Convictions\, How I Learned What Matters Most by theologian and Bible scholar\, Marcus J. Borg.
URL:https://www.lsbcc.org/event/book-study-sundays-in-january
END:VEVENT
BEGIN:VEVENT
DTSTART;TZID=America/Denver:20240107T100000
DTEND;TZID=America/Denver:20240107T110000
DTSTAMP:20260423T191753
CREATED:20231008T154409Z
LAST-MODIFIED:20231008T154409Z
UID:5176-1704621600-1704625200@www.lsbcc.org
SUMMARY:Sunday Service
DESCRIPTION:
URL:https://www.lsbcc.org/event/sunday-service-2024-01-07
END:VEVENT
BEGIN:VEVENT
DTSTART;TZID=America/Denver:20240103T100000
DTEND;TZID=America/Denver:20240103T103000
DTSTAMP:20260423T191753
CREATED:20231212T170100Z
LAST-MODIFIED:20231212T170100Z
UID:5267-1704276000-1704277800@www.lsbcc.org
SUMMARY:Guided Meditation
DESCRIPTION:Are you seeking a sanctuary from the holiday fray?  All are welcome Wednesdays in our beautiful sanctuary\, 10 – 10:30 am to find peace\, silence\, and stillness. Reverend Bonnie Lange guides us through simple practices\, accessible for the beginner.
URL:https://www.lsbcc.org/event/guided-meditation-2024-01-03
LOCATION:La Selva Beach Community Church\, 26 Florido Avenue\, La Selva Beach\, 95076\, United States
END:VEVENT
BEGIN:VEVENT
DTSTART;TZID=America/Denver:20231231T100000
DTEND;TZID=America/Denver:20231231T110000
DTSTAMP:20260423T191753
CREATED:20231008T154409Z
LAST-MODIFIED:20231008T154409Z
UID:5175-1704016800-1704020400@www.lsbcc.org
SUMMARY:Sunday Service
DESCRIPTION:
URL:https://www.lsbcc.org/event/sunday-service-2023-12-31
END:VEVENT
BEGIN:VEVENT
DTSTART;TZID=America/Denver:20231227T100000
DTEND;TZID=America/Denver:20231227T103000
DTSTAMP:20260423T191753
CREATED:20231212T170100Z
LAST-MODIFIED:20231212T170100Z
UID:5266-1703671200-1703673000@www.lsbcc.org
SUMMARY:Guided Meditation
DESCRIPTION:Are you seeking a sanctuary from the holiday fray?  All are welcome Wednesdays in our beautiful sanctuary\, 10 – 10:30 am to find peace\, silence\, and stillness. Reverend Bonnie Lange guides us through simple practices\, accessible for the beginner.
URL:https://www.lsbcc.org/event/guided-meditation-2023-12-27
LOCATION:La Selva Beach Community Church\, 26 Florido Avenue\, La Selva Beach\, 95076\, United States
END:VEVENT
BEGIN:VEVENT
DTSTART;TZID=America/Denver:20231224T190000
DTEND;TZID=America/Denver:20231224T200000
DTSTAMP:20260423T191753
CREATED:20231212T165153Z
LAST-MODIFIED:20231212T182855Z
UID:5230-1703444400-1703448000@www.lsbcc.org
SUMMARY:Candlelight Christmas Eve Service
DESCRIPTION:Journey with us as we celebrate Jesus’ birth from the perspective of the “Shepherds Who Watched their Flock by Night”.  The music filled program has familiar favorites\, inspiring solos and choir contributions.   Enjoy the festive decorations both outdoors and in our sanctuary.
URL:https://www.lsbcc.org/event/candlelight-christmas-eve-service
END:VEVENT
BEGIN:VEVENT
DTSTART;TZID=America/Denver:20231224T100000
DTEND;TZID=America/Denver:20231224T110000
DTSTAMP:20260423T191753
CREATED:20231008T154409Z
LAST-MODIFIED:20231008T154409Z
UID:5174-1703412000-1703415600@www.lsbcc.org
SUMMARY:Sunday Service
DESCRIPTION:
URL:https://www.lsbcc.org/event/sunday-service-2023-12-24
END:VEVENT
BEGIN:VEVENT
DTSTART;TZID=America/Denver:20231220T100000
DTEND;TZID=America/Denver:20231220T103000
DTSTAMP:20260423T191753
CREATED:20231212T170100Z
LAST-MODIFIED:20231212T170100Z
UID:5265-1703066400-1703068200@www.lsbcc.org
SUMMARY:Guided Meditation
DESCRIPTION:Are you seeking a sanctuary from the holiday fray?  All are welcome Wednesdays in our beautiful sanctuary\, 10 – 10:30 am to find peace\, silence\, and stillness. Reverend Bonnie Lange guides us through simple practices\, accessible for the beginner.
URL:https://www.lsbcc.org/event/guided-meditation-2023-12-20
LOCATION:La Selva Beach Community Church\, 26 Florido Avenue\, La Selva Beach\, 95076\, United States
END:VEVENT
BEGIN:VEVENT
DTSTART;TZID=America/Denver:20231219T190000
DTEND;TZID=America/Denver:20231219T200000
DTSTAMP:20260423T191753
CREATED:20231212T165532Z
LAST-MODIFIED:20231212T215633Z
UID:5232-1703012400-1703016000@www.lsbcc.org
SUMMARY:Community Christmas Sing-a-long
DESCRIPTION:Please join us on December 19th\, 7-8 pm at Triangle Park in La Selva Beach. Bring your family\, friends and neighbors to sing your holiday favorites and sip hot chocolate. Lyrics will be provided. Please bring a flashlight\, layers for warmth and your cheerful nature. All voices are welcome\, even if you want to simply hum along!   In case of rain the LSB Community Church will open it’s doors to provide a warm and setting to sing.
URL:https://www.lsbcc.org/event/community-christmas-caroling
LOCATION:Triangle Park\, La Selva Beach
END:VEVENT
BEGIN:VEVENT
DTSTART;TZID=America/Denver:20231217T100000
DTEND;TZID=America/Denver:20231217T110000
DTSTAMP:20260423T191753
CREATED:20231008T154409Z
LAST-MODIFIED:20231008T154409Z
UID:5173-1702807200-1702810800@www.lsbcc.org
SUMMARY:Sunday Service
DESCRIPTION:
URL:https://www.lsbcc.org/event/sunday-service-2023-12-17
END:VEVENT
BEGIN:VEVENT
DTSTART;TZID=America/Denver:20231214T190000
DTEND;TZID=America/Denver:20231214T200000
DTSTAMP:20260423T191753
CREATED:20231212T165803Z
LAST-MODIFIED:20231212T165803Z
UID:5235-1702580400-1702584000@www.lsbcc.org
SUMMARY:Blue Christmas Service
DESCRIPTION:For some\, the holidays are painful and very difficult. It may be from the loss of a loved one or other grief.  This contemplative service is designed for those seeking a refuge of comfort\, hope and wholeness away from the holiday cheer. The service includes music\, prayers\, readings\, poetry and music.  Offered in person and on zoom.
URL:https://www.lsbcc.org/event/blue-christmas-service
END:VEVENT
BEGIN:VEVENT
DTSTART;TZID=America/Denver:20231213T193000
DTEND;TZID=America/Denver:20231213T203000
DTSTAMP:20260423T191753
CREATED:20231212T171452Z
LAST-MODIFIED:20231212T171452Z
UID:5274-1702495800-1702499400@www.lsbcc.org
SUMMARY:Christmas Choir Rehearsal
DESCRIPTION:David Larstein invites anyone interested in joining the Christmas Choir to come to rehearsals. The choir will perform at the December 17 Sunday service at 10:00am and the Christmas Eve service at 7:00pm.
URL:https://www.lsbcc.org/event/christmas-choir-rehearsal
END:VEVENT
BEGIN:VEVENT
DTSTART;TZID=America/Denver:20231213T100000
DTEND;TZID=America/Denver:20231213T103000
DTSTAMP:20260423T191753
CREATED:20231212T170100Z
LAST-MODIFIED:20231212T170647Z
UID:5238-1702461600-1702463400@www.lsbcc.org
SUMMARY:Guided Meditation
DESCRIPTION:Are you seeking a sanctuary from the holiday fray?  All are welcome Wednesdays in our beautiful sanctuary\, 10 – 10:30 am to find peace\, silence\, and stillness. Reverend Bonnie Lange guides us through simple practices\, accessible for the beginner.
URL:https://www.lsbcc.org/event/guided-meditation
LOCATION:La Selva Beach Community Church\, 26 Florido Avenue\, La Selva Beach\, 95076\, United States
END:VEVENT
BEGIN:VEVENT
DTSTART;TZID=America/Denver:20231210T100000
DTEND;TZID=America/Denver:20231210T110000
DTSTAMP:20260423T191753
CREATED:20231008T154409Z
LAST-MODIFIED:20231008T154409Z
UID:5172-1702202400-1702206000@www.lsbcc.org
SUMMARY:Sunday Service
DESCRIPTION:
URL:https://www.lsbcc.org/event/sunday-service-2023-12-10
END:VEVENT
BEGIN:VEVENT
DTSTART;TZID=America/Denver:20231203T100000
DTEND;TZID=America/Denver:20231203T110000
DTSTAMP:20260423T191753
CREATED:20231008T154409Z
LAST-MODIFIED:20231008T154409Z
UID:5171-1701597600-1701601200@www.lsbcc.org
SUMMARY:Sunday Service
DESCRIPTION:
URL:https://www.lsbcc.org/event/sunday-service-2023-12-03
END:VEVENT
BEGIN:VEVENT
DTSTART;TZID=America/Denver:20231126T100000
DTEND;TZID=America/Denver:20231126T110000
DTSTAMP:20260423T191753
CREATED:20231008T154409Z
LAST-MODIFIED:20231008T154409Z
UID:5170-1700992800-1700996400@www.lsbcc.org
SUMMARY:Sunday Service
DESCRIPTION:
URL:https://www.lsbcc.org/event/sunday-service-2023-11-26
END:VEVENT
BEGIN:VEVENT
DTSTART;TZID=America/Denver:20231119T100000
DTEND;TZID=America/Denver:20231119T110000
DTSTAMP:20260423T191753
CREATED:20231008T154409Z
LAST-MODIFIED:20231008T154409Z
UID:5169-1700388000-1700391600@www.lsbcc.org
SUMMARY:Sunday Service
DESCRIPTION:
URL:https://www.lsbcc.org/event/sunday-service-2023-11-19
END:VEVENT
BEGIN:VEVENT
DTSTART;TZID=America/Denver:20231112T100000
DTEND;TZID=America/Denver:20231112T110000
DTSTAMP:20260423T191753
CREATED:20231008T154409Z
LAST-MODIFIED:20231008T154409Z
UID:5168-1699783200-1699786800@www.lsbcc.org
SUMMARY:Sunday Service
DESCRIPTION:
URL:https://www.lsbcc.org/event/sunday-service-2023-11-12
END:VEVENT
BEGIN:VEVENT
DTSTART;TZID=America/Denver:20231105T100000
DTEND;TZID=America/Denver:20231105T110000
DTSTAMP:20260423T191753
CREATED:20231008T154409Z
LAST-MODIFIED:20231008T154409Z
UID:5167-1699178400-1699182000@www.lsbcc.org
SUMMARY:Sunday Service
DESCRIPTION:
URL:https://www.lsbcc.org/event/sunday-service-2023-11-05
END:VEVENT
BEGIN:VEVENT
DTSTART;TZID=America/Denver:20231029T100000
DTEND;TZID=America/Denver:20231029T110000
DTSTAMP:20260423T191753
CREATED:20231008T154409Z
LAST-MODIFIED:20231008T154409Z
UID:5166-1698573600-1698577200@www.lsbcc.org
SUMMARY:Sunday Service
DESCRIPTION:
URL:https://www.lsbcc.org/event/sunday-service-2023-10-29
END:VEVENT
BEGIN:VEVENT
DTSTART;TZID=America/Denver:20231022T113000
DTEND;TZID=America/Denver:20231022T130000
DTSTAMP:20260423T191753
CREATED:20230911T201444Z
LAST-MODIFIED:20230911T201444Z
UID:5031-1697974200-1697979600@www.lsbcc.org
SUMMARY:Halloween Art Project with Icy Young
DESCRIPTION:
URL:https://www.lsbcc.org/event/halloween-art-project-with-icy-young
LOCATION:La Selva Beach Community Church Courtyard
END:VEVENT
BEGIN:VEVENT
DTSTART;TZID=America/Denver:20231022T100000
DTEND;TZID=America/Denver:20231022T110000
DTSTAMP:20260423T191753
CREATED:20231008T154409Z
LAST-MODIFIED:20231008T154409Z
UID:5165-1697968800-1697972400@www.lsbcc.org
SUMMARY:Sunday Service
DESCRIPTION:
URL:https://www.lsbcc.org/event/sunday-service-2023-10-22
END:VEVENT
BEGIN:VEVENT
DTSTART;TZID=America/Denver:20231015T100000
DTEND;TZID=America/Denver:20231015T110000
DTSTAMP:20260423T191753
CREATED:20231008T154409Z
LAST-MODIFIED:20231009T122449Z
UID:5163-1697364000-1697367600@www.lsbcc.org
SUMMARY:Sunday Service
DESCRIPTION:
URL:https://www.lsbcc.org/event/sunday-service
END:VEVENT
BEGIN:VEVENT
DTSTART;TZID=America/Denver:20231008T100000
DTEND;TZID=America/Denver:20231008T110000
DTSTAMP:20260423T191753
CREATED:20230911T195858Z
LAST-MODIFIED:20231008T153958Z
UID:5027-1696759200-1696762800@www.lsbcc.org
SUMMARY:Blessing of the Animals
DESCRIPTION:LSB Library Lawn \nAll are welcome at the annual Blessing of the Animals. Bring your animal companion\, properly contained and yourself for a simple blessing and message from Rev. Bonnie. You may bring a photo of pets who cannot join us. There will be music\, refreshments and fun.
URL:https://www.lsbcc.org/event/blessing-of-the-animals-4
END:VEVENT
BEGIN:VEVENT
DTSTART;TZID=America/Denver:20230209T113000
DTEND;TZID=America/Denver:20230209T123000
DTSTAMP:20260423T191753
CREATED:20230105T230140Z
LAST-MODIFIED:20230105T230140Z
UID:5009-1675942200-1675945800@www.lsbcc.org
SUMMARY:Interactive Book Study January 29\, February 5\, 12\, and 19\, 2023
DESCRIPTION:Join us for a 4-week exploration of Celtic wisdom as we read Sacred Earth\, Sacred Soul by John Philip Newell.  Through this book study we will dive deep into Celtic Christian spirituality and its implications for how we encounter God\, creation and one another. \n 
URL:https://www.lsbcc.org/event/interactive-book-study-january-29-february-5-12-and-19-2023-2023-02-09
END:VEVENT
BEGIN:VEVENT
DTSTART;TZID=America/Denver:20230205T113000
DTEND;TZID=America/Denver:20230205T123000
DTSTAMP:20260423T191753
CREATED:20230105T230140Z
LAST-MODIFIED:20230105T230140Z
UID:5008-1675596600-1675600200@www.lsbcc.org
SUMMARY:Interactive Book Study January 29\, February 5\, 12\, and 19\, 2023
DESCRIPTION:Join us for a 4-week exploration of Celtic wisdom as we read Sacred Earth\, Sacred Soul by John Philip Newell.  Through this book study we will dive deep into Celtic Christian spirituality and its implications for how we encounter God\, creation and one another. \n 
URL:https://www.lsbcc.org/event/interactive-book-study-january-29-february-5-12-and-19-2023-2023-02-05
END:VEVENT
BEGIN:VEVENT
DTSTART;TZID=America/Denver:20230202T113000
DTEND;TZID=America/Denver:20230202T123000
DTSTAMP:20260423T191753
CREATED:20230105T230140Z
LAST-MODIFIED:20230105T230140Z
UID:5007-1675337400-1675341000@www.lsbcc.org
SUMMARY:Interactive Book Study January 29\, February 5\, 12\, and 19\, 2023
DESCRIPTION:Join us for a 4-week exploration of Celtic wisdom as we read Sacred Earth\, Sacred Soul by John Philip Newell.  Through this book study we will dive deep into Celtic Christian spirituality and its implications for how we encounter God\, creation and one another. \n 
URL:https://www.lsbcc.org/event/interactive-book-study-january-29-february-5-12-and-19-2023-2023-02-02
END:VEVENT
BEGIN:VEVENT
DTSTART;TZID=America/Denver:20230129T113000
DTEND;TZID=America/Denver:20230129T123000
DTSTAMP:20260423T191753
CREATED:20230105T230140Z
LAST-MODIFIED:20230105T230140Z
UID:5004-1674991800-1674995400@www.lsbcc.org
SUMMARY:Interactive Book Study January 29\, February 5\, 12\, and 19\, 2023
DESCRIPTION:Join us for a 4-week exploration of Celtic wisdom as we read Sacred Earth\, Sacred Soul by John Philip Newell.  Through this book study we will dive deep into Celtic Christian spirituality and its implications for how we encounter God\, creation and one another. \n 
URL:https://www.lsbcc.org/event/interactive-book-study-january-29-february-5-12-and-19-2023
END:VEVENT
END:VCALENDAR