BEGIN:VCALENDAR
VERSION:2.0
PRODID:-//La Selva Beach Community Church - ECPv6.13.2.1//NONSGML v1.0//EN
CALSCALE:GREGORIAN
METHOD:PUBLISH
X-ORIGINAL-URL:https://www.lsbcc.org
X-WR-CALDESC:Events for La Selva Beach Community Church
REFRESH-INTERVAL;VALUE=DURATION:PT1H
X-Robots-Tag:noindex
X-PUBLISHED-TTL:PT1H
BEGIN:VTIMEZONE
TZID:America/Denver
BEGIN:DAYLIGHT
TZOFFSETFROM:-0700
TZOFFSETTO:-0600
TZNAME:MDT
DTSTART:20230312T090000
END:DAYLIGHT
BEGIN:STANDARD
TZOFFSETFROM:-0600
TZOFFSETTO:-0700
TZNAME:MST
DTSTART:20231105T080000
END:STANDARD
BEGIN:DAYLIGHT
TZOFFSETFROM:-0700
TZOFFSETTO:-0600
TZNAME:MDT
DTSTART:20240310T090000
END:DAYLIGHT
BEGIN:STANDARD
TZOFFSETFROM:-0600
TZOFFSETTO:-0700
TZNAME:MST
DTSTART:20241103T080000
END:STANDARD
END:VTIMEZONE
BEGIN:VEVENT
DTSTART;TZID=America/Denver:20240407T100000
DTEND;TZID=America/Denver:20240407T110000
DTSTAMP:20260423T162913
CREATED:20231008T154409Z
LAST-MODIFIED:20231008T154409Z
UID:5189-1712484000-1712487600@www.lsbcc.org
SUMMARY:Sunday Service
DESCRIPTION:
URL:https://www.lsbcc.org/event/sunday-service-2024-04-07
END:VEVENT
BEGIN:VEVENT
DTSTART;TZID=America/Denver:20240331T100000
DTEND;TZID=America/Denver:20240331T110000
DTSTAMP:20260423T162913
CREATED:20231008T154409Z
LAST-MODIFIED:20231008T154409Z
UID:5188-1711879200-1711882800@www.lsbcc.org
SUMMARY:Sunday Service
DESCRIPTION:
URL:https://www.lsbcc.org/event/sunday-service-2024-03-31
END:VEVENT
BEGIN:VEVENT
DTSTART;TZID=America/Denver:20240324T100000
DTEND;TZID=America/Denver:20240324T110000
DTSTAMP:20260423T162913
CREATED:20231008T154409Z
LAST-MODIFIED:20231008T154409Z
UID:5187-1711274400-1711278000@www.lsbcc.org
SUMMARY:Sunday Service
DESCRIPTION:
URL:https://www.lsbcc.org/event/sunday-service-2024-03-24
END:VEVENT
BEGIN:VEVENT
DTSTART;TZID=America/Denver:20240317T100000
DTEND;TZID=America/Denver:20240317T110000
DTSTAMP:20260423T162913
CREATED:20231008T154409Z
LAST-MODIFIED:20231008T154409Z
UID:5186-1710669600-1710673200@www.lsbcc.org
SUMMARY:Sunday Service
DESCRIPTION:
URL:https://www.lsbcc.org/event/sunday-service-2024-03-17
END:VEVENT
BEGIN:VEVENT
DTSTART;TZID=America/Denver:20240310T100000
DTEND;TZID=America/Denver:20240310T110000
DTSTAMP:20260423T162913
CREATED:20231008T154409Z
LAST-MODIFIED:20231008T154409Z
UID:5185-1710064800-1710068400@www.lsbcc.org
SUMMARY:Sunday Service
DESCRIPTION:
URL:https://www.lsbcc.org/event/sunday-service-2024-03-10
END:VEVENT
BEGIN:VEVENT
DTSTART;TZID=America/Denver:20240303T100000
DTEND;TZID=America/Denver:20240303T110000
DTSTAMP:20260423T162913
CREATED:20231008T154409Z
LAST-MODIFIED:20231008T154409Z
UID:5184-1709460000-1709463600@www.lsbcc.org
SUMMARY:Sunday Service
DESCRIPTION:
URL:https://www.lsbcc.org/event/sunday-service-2024-03-03
END:VEVENT
BEGIN:VEVENT
DTSTART;TZID=America/Denver:20240225T100000
DTEND;TZID=America/Denver:20240225T110000
DTSTAMP:20260423T162913
CREATED:20231008T154409Z
LAST-MODIFIED:20231008T154409Z
UID:5183-1708855200-1708858800@www.lsbcc.org
SUMMARY:Sunday Service
DESCRIPTION:
URL:https://www.lsbcc.org/event/sunday-service-2024-02-25
END:VEVENT
BEGIN:VEVENT
DTSTART;TZID=America/Denver:20240218T100000
DTEND;TZID=America/Denver:20240218T110000
DTSTAMP:20260423T162913
CREATED:20231008T154409Z
LAST-MODIFIED:20231008T154409Z
UID:5182-1708250400-1708254000@www.lsbcc.org
SUMMARY:Sunday Service
DESCRIPTION:
URL:https://www.lsbcc.org/event/sunday-service-2024-02-18
END:VEVENT
BEGIN:VEVENT
DTSTART;TZID=America/Denver:20240214T100000
DTEND;TZID=America/Denver:20240214T103000
DTSTAMP:20260423T162913
CREATED:20231212T170100Z
LAST-MODIFIED:20231212T170100Z
UID:5273-1707904800-1707906600@www.lsbcc.org
SUMMARY:Guided Meditation
DESCRIPTION:Are you seeking a sanctuary from the holiday fray?  All are welcome Wednesdays in our beautiful sanctuary\, 10 – 10:30 am to find peace\, silence\, and stillness. Reverend Bonnie Lange guides us through simple practices\, accessible for the beginner.
URL:https://www.lsbcc.org/event/guided-meditation-2024-02-14
LOCATION:La Selva Beach Community Church\, 26 Florido Avenue\, La Selva Beach\, 95076\, United States
END:VEVENT
BEGIN:VEVENT
DTSTART;TZID=America/Denver:20240211T100000
DTEND;TZID=America/Denver:20240211T110000
DTSTAMP:20260423T162913
CREATED:20231008T154409Z
LAST-MODIFIED:20231008T154409Z
UID:5181-1707645600-1707649200@www.lsbcc.org
SUMMARY:Sunday Service
DESCRIPTION:
URL:https://www.lsbcc.org/event/sunday-service-2024-02-11
END:VEVENT
BEGIN:VEVENT
DTSTART;TZID=America/Denver:20240207T100000
DTEND;TZID=America/Denver:20240207T103000
DTSTAMP:20260423T162913
CREATED:20231212T170100Z
LAST-MODIFIED:20231212T170100Z
UID:5272-1707300000-1707301800@www.lsbcc.org
SUMMARY:Guided Meditation
DESCRIPTION:Are you seeking a sanctuary from the holiday fray?  All are welcome Wednesdays in our beautiful sanctuary\, 10 – 10:30 am to find peace\, silence\, and stillness. Reverend Bonnie Lange guides us through simple practices\, accessible for the beginner.
URL:https://www.lsbcc.org/event/guided-meditation-2024-02-07
LOCATION:La Selva Beach Community Church\, 26 Florido Avenue\, La Selva Beach\, 95076\, United States
END:VEVENT
BEGIN:VEVENT
DTSTART;TZID=America/Denver:20240204T100000
DTEND;TZID=America/Denver:20240204T110000
DTSTAMP:20260423T162913
CREATED:20231008T154409Z
LAST-MODIFIED:20231008T154409Z
UID:5180-1707040800-1707044400@www.lsbcc.org
SUMMARY:Sunday Service
DESCRIPTION:
URL:https://www.lsbcc.org/event/sunday-service-2024-02-04
END:VEVENT
BEGIN:VEVENT
DTSTART;TZID=America/Denver:20240131T100000
DTEND;TZID=America/Denver:20240131T103000
DTSTAMP:20260423T162913
CREATED:20231212T170100Z
LAST-MODIFIED:20231212T170100Z
UID:5271-1706695200-1706697000@www.lsbcc.org
SUMMARY:Guided Meditation
DESCRIPTION:Are you seeking a sanctuary from the holiday fray?  All are welcome Wednesdays in our beautiful sanctuary\, 10 – 10:30 am to find peace\, silence\, and stillness. Reverend Bonnie Lange guides us through simple practices\, accessible for the beginner.
URL:https://www.lsbcc.org/event/guided-meditation-2024-01-31
LOCATION:La Selva Beach Community Church\, 26 Florido Avenue\, La Selva Beach\, 95076\, United States
END:VEVENT
BEGIN:VEVENT
DTSTART;TZID=America/Denver:20240128T110000
DTEND;TZID=America/Denver:20240128T120000
DTSTAMP:20260423T162913
CREATED:20231212T220555Z
LAST-MODIFIED:20231212T220555Z
UID:5299-1706439600-1706443200@www.lsbcc.org
SUMMARY:Book Study Sundays in January
DESCRIPTION:All are welcome! We’ll meet at 11:15 – noon each Sunday in January to discuss the book\, Convictions\, How I Learned What Matters Most by theologian and Bible scholar\, Marcus J. Borg.
URL:https://www.lsbcc.org/event/book-study-sundays-in-january-2024-01-28
END:VEVENT
BEGIN:VEVENT
DTSTART;TZID=America/Denver:20240128T100000
DTEND;TZID=America/Denver:20240128T110000
DTSTAMP:20260423T162913
CREATED:20231008T154409Z
LAST-MODIFIED:20231008T154409Z
UID:5179-1706436000-1706439600@www.lsbcc.org
SUMMARY:Sunday Service
DESCRIPTION:
URL:https://www.lsbcc.org/event/sunday-service-2024-01-28
END:VEVENT
BEGIN:VEVENT
DTSTART;TZID=America/Denver:20240124T100000
DTEND;TZID=America/Denver:20240124T103000
DTSTAMP:20260423T162913
CREATED:20231212T170100Z
LAST-MODIFIED:20231212T170100Z
UID:5270-1706090400-1706092200@www.lsbcc.org
SUMMARY:Guided Meditation
DESCRIPTION:Are you seeking a sanctuary from the holiday fray?  All are welcome Wednesdays in our beautiful sanctuary\, 10 – 10:30 am to find peace\, silence\, and stillness. Reverend Bonnie Lange guides us through simple practices\, accessible for the beginner.
URL:https://www.lsbcc.org/event/guided-meditation-2024-01-24
LOCATION:La Selva Beach Community Church\, 26 Florido Avenue\, La Selva Beach\, 95076\, United States
END:VEVENT
BEGIN:VEVENT
DTSTART;TZID=America/Denver:20240121T110000
DTEND;TZID=America/Denver:20240121T120000
DTSTAMP:20260423T162913
CREATED:20231212T220555Z
LAST-MODIFIED:20231212T220555Z
UID:5298-1705834800-1705838400@www.lsbcc.org
SUMMARY:Book Study Sundays in January
DESCRIPTION:All are welcome! We’ll meet at 11:15 – noon each Sunday in January to discuss the book\, Convictions\, How I Learned What Matters Most by theologian and Bible scholar\, Marcus J. Borg.
URL:https://www.lsbcc.org/event/book-study-sundays-in-january-2024-01-21
END:VEVENT
BEGIN:VEVENT
DTSTART;TZID=America/Denver:20240121T100000
DTEND;TZID=America/Denver:20240121T110000
DTSTAMP:20260423T162913
CREATED:20231008T154409Z
LAST-MODIFIED:20231008T154409Z
UID:5178-1705831200-1705834800@www.lsbcc.org
SUMMARY:Sunday Service
DESCRIPTION:
URL:https://www.lsbcc.org/event/sunday-service-2024-01-21
END:VEVENT
BEGIN:VEVENT
DTSTART;TZID=America/Denver:20240117T100000
DTEND;TZID=America/Denver:20240117T103000
DTSTAMP:20260423T162913
CREATED:20231212T170100Z
LAST-MODIFIED:20231212T170100Z
UID:5269-1705485600-1705487400@www.lsbcc.org
SUMMARY:Guided Meditation
DESCRIPTION:Are you seeking a sanctuary from the holiday fray?  All are welcome Wednesdays in our beautiful sanctuary\, 10 – 10:30 am to find peace\, silence\, and stillness. Reverend Bonnie Lange guides us through simple practices\, accessible for the beginner.
URL:https://www.lsbcc.org/event/guided-meditation-2024-01-17
LOCATION:La Selva Beach Community Church\, 26 Florido Avenue\, La Selva Beach\, 95076\, United States
END:VEVENT
BEGIN:VEVENT
DTSTART;TZID=America/Denver:20240114T110000
DTEND;TZID=America/Denver:20240114T120000
DTSTAMP:20260423T162913
CREATED:20231212T220555Z
LAST-MODIFIED:20231212T220555Z
UID:5297-1705230000-1705233600@www.lsbcc.org
SUMMARY:Book Study Sundays in January
DESCRIPTION:All are welcome! We’ll meet at 11:15 – noon each Sunday in January to discuss the book\, Convictions\, How I Learned What Matters Most by theologian and Bible scholar\, Marcus J. Borg.
URL:https://www.lsbcc.org/event/book-study-sundays-in-january-2024-01-14
END:VEVENT
BEGIN:VEVENT
DTSTART;TZID=America/Denver:20240114T100000
DTEND;TZID=America/Denver:20240114T110000
DTSTAMP:20260423T162913
CREATED:20231008T154409Z
LAST-MODIFIED:20231008T154409Z
UID:5177-1705226400-1705230000@www.lsbcc.org
SUMMARY:Sunday Service
DESCRIPTION:
URL:https://www.lsbcc.org/event/sunday-service-2024-01-14
END:VEVENT
BEGIN:VEVENT
DTSTART;TZID=America/Denver:20240110T100000
DTEND;TZID=America/Denver:20240110T103000
DTSTAMP:20260423T162913
CREATED:20231212T170100Z
LAST-MODIFIED:20231212T170100Z
UID:5268-1704880800-1704882600@www.lsbcc.org
SUMMARY:Guided Meditation
DESCRIPTION:Are you seeking a sanctuary from the holiday fray?  All are welcome Wednesdays in our beautiful sanctuary\, 10 – 10:30 am to find peace\, silence\, and stillness. Reverend Bonnie Lange guides us through simple practices\, accessible for the beginner.
URL:https://www.lsbcc.org/event/guided-meditation-2024-01-10
LOCATION:La Selva Beach Community Church\, 26 Florido Avenue\, La Selva Beach\, 95076\, United States
END:VEVENT
BEGIN:VEVENT
DTSTART;TZID=America/Denver:20240107T110000
DTEND;TZID=America/Denver:20240107T120000
DTSTAMP:20260423T162913
CREATED:20231212T220555Z
LAST-MODIFIED:20231212T220555Z
UID:5295-1704625200-1704628800@www.lsbcc.org
SUMMARY:Book Study Sundays in January
DESCRIPTION:All are welcome! We’ll meet at 11:15 – noon each Sunday in January to discuss the book\, Convictions\, How I Learned What Matters Most by theologian and Bible scholar\, Marcus J. Borg.
URL:https://www.lsbcc.org/event/book-study-sundays-in-january
END:VEVENT
BEGIN:VEVENT
DTSTART;TZID=America/Denver:20240107T100000
DTEND;TZID=America/Denver:20240107T110000
DTSTAMP:20260423T162913
CREATED:20231008T154409Z
LAST-MODIFIED:20231008T154409Z
UID:5176-1704621600-1704625200@www.lsbcc.org
SUMMARY:Sunday Service
DESCRIPTION:
URL:https://www.lsbcc.org/event/sunday-service-2024-01-07
END:VEVENT
BEGIN:VEVENT
DTSTART;TZID=America/Denver:20240103T100000
DTEND;TZID=America/Denver:20240103T103000
DTSTAMP:20260423T162913
CREATED:20231212T170100Z
LAST-MODIFIED:20231212T170100Z
UID:5267-1704276000-1704277800@www.lsbcc.org
SUMMARY:Guided Meditation
DESCRIPTION:Are you seeking a sanctuary from the holiday fray?  All are welcome Wednesdays in our beautiful sanctuary\, 10 – 10:30 am to find peace\, silence\, and stillness. Reverend Bonnie Lange guides us through simple practices\, accessible for the beginner.
URL:https://www.lsbcc.org/event/guided-meditation-2024-01-03
LOCATION:La Selva Beach Community Church\, 26 Florido Avenue\, La Selva Beach\, 95076\, United States
END:VEVENT
BEGIN:VEVENT
DTSTART;TZID=America/Denver:20231231T100000
DTEND;TZID=America/Denver:20231231T110000
DTSTAMP:20260423T162913
CREATED:20231008T154409Z
LAST-MODIFIED:20231008T154409Z
UID:5175-1704016800-1704020400@www.lsbcc.org
SUMMARY:Sunday Service
DESCRIPTION:
URL:https://www.lsbcc.org/event/sunday-service-2023-12-31
END:VEVENT
BEGIN:VEVENT
DTSTART;TZID=America/Denver:20231227T100000
DTEND;TZID=America/Denver:20231227T103000
DTSTAMP:20260423T162913
CREATED:20231212T170100Z
LAST-MODIFIED:20231212T170100Z
UID:5266-1703671200-1703673000@www.lsbcc.org
SUMMARY:Guided Meditation
DESCRIPTION:Are you seeking a sanctuary from the holiday fray?  All are welcome Wednesdays in our beautiful sanctuary\, 10 – 10:30 am to find peace\, silence\, and stillness. Reverend Bonnie Lange guides us through simple practices\, accessible for the beginner.
URL:https://www.lsbcc.org/event/guided-meditation-2023-12-27
LOCATION:La Selva Beach Community Church\, 26 Florido Avenue\, La Selva Beach\, 95076\, United States
END:VEVENT
BEGIN:VEVENT
DTSTART;TZID=America/Denver:20231224T190000
DTEND;TZID=America/Denver:20231224T200000
DTSTAMP:20260423T162913
CREATED:20231212T165153Z
LAST-MODIFIED:20231212T182855Z
UID:5230-1703444400-1703448000@www.lsbcc.org
SUMMARY:Candlelight Christmas Eve Service
DESCRIPTION:Journey with us as we celebrate Jesus’ birth from the perspective of the “Shepherds Who Watched their Flock by Night”.  The music filled program has familiar favorites\, inspiring solos and choir contributions.   Enjoy the festive decorations both outdoors and in our sanctuary.
URL:https://www.lsbcc.org/event/candlelight-christmas-eve-service
END:VEVENT
BEGIN:VEVENT
DTSTART;TZID=America/Denver:20231224T100000
DTEND;TZID=America/Denver:20231224T110000
DTSTAMP:20260423T162913
CREATED:20231008T154409Z
LAST-MODIFIED:20231008T154409Z
UID:5174-1703412000-1703415600@www.lsbcc.org
SUMMARY:Sunday Service
DESCRIPTION:
URL:https://www.lsbcc.org/event/sunday-service-2023-12-24
END:VEVENT
BEGIN:VEVENT
DTSTART;TZID=America/Denver:20231220T100000
DTEND;TZID=America/Denver:20231220T103000
DTSTAMP:20260423T162913
CREATED:20231212T170100Z
LAST-MODIFIED:20231212T170100Z
UID:5265-1703066400-1703068200@www.lsbcc.org
SUMMARY:Guided Meditation
DESCRIPTION:Are you seeking a sanctuary from the holiday fray?  All are welcome Wednesdays in our beautiful sanctuary\, 10 – 10:30 am to find peace\, silence\, and stillness. Reverend Bonnie Lange guides us through simple practices\, accessible for the beginner.
URL:https://www.lsbcc.org/event/guided-meditation-2023-12-20
LOCATION:La Selva Beach Community Church\, 26 Florido Avenue\, La Selva Beach\, 95076\, United States
END:VEVENT
END:VCALENDAR