BEGIN:VCALENDAR
VERSION:2.0
PRODID:-//La Selva Beach Community Church - ECPv6.13.2.1//NONSGML v1.0//EN
CALSCALE:GREGORIAN
METHOD:PUBLISH
X-WR-CALNAME:La Selva Beach Community Church
X-ORIGINAL-URL:https://www.lsbcc.org
X-WR-CALDESC:Events for La Selva Beach Community Church
REFRESH-INTERVAL;VALUE=DURATION:PT1H
X-Robots-Tag:noindex
X-PUBLISHED-TTL:PT1H
BEGIN:VTIMEZONE
TZID:America/Denver
BEGIN:DAYLIGHT
TZOFFSETFROM:-0700
TZOFFSETTO:-0600
TZNAME:MDT
DTSTART:20240310T090000
END:DAYLIGHT
BEGIN:STANDARD
TZOFFSETFROM:-0600
TZOFFSETTO:-0700
TZNAME:MST
DTSTART:20241103T080000
END:STANDARD
END:VTIMEZONE
BEGIN:VEVENT
DTSTART;TZID=America/Denver:20241103T100000
DTEND;TZID=America/Denver:20241103T110000
DTSTAMP:20260423T122538
CREATED:20231008T154409Z
LAST-MODIFIED:20231008T154409Z
UID:5219-1730628000-1730631600@www.lsbcc.org
SUMMARY:Sunday Service
DESCRIPTION:
URL:https://www.lsbcc.org/event/sunday-service-2024-11-03
END:VEVENT
BEGIN:VEVENT
DTSTART;TZID=America/Denver:20241027T100000
DTEND;TZID=America/Denver:20241027T110000
DTSTAMP:20260423T122538
CREATED:20231008T154409Z
LAST-MODIFIED:20231008T154409Z
UID:5218-1730023200-1730026800@www.lsbcc.org
SUMMARY:Sunday Service
DESCRIPTION:
URL:https://www.lsbcc.org/event/sunday-service-2024-10-27
END:VEVENT
BEGIN:VEVENT
DTSTART;TZID=America/Denver:20241020T100000
DTEND;TZID=America/Denver:20241020T110000
DTSTAMP:20260423T122538
CREATED:20231008T154409Z
LAST-MODIFIED:20231008T154409Z
UID:5217-1729418400-1729422000@www.lsbcc.org
SUMMARY:Sunday Service
DESCRIPTION:
URL:https://www.lsbcc.org/event/sunday-service-2024-10-20
END:VEVENT
BEGIN:VEVENT
DTSTART;TZID=America/Denver:20241013T100000
DTEND;TZID=America/Denver:20241013T110000
DTSTAMP:20260423T122538
CREATED:20231008T154409Z
LAST-MODIFIED:20231008T154409Z
UID:5216-1728813600-1728817200@www.lsbcc.org
SUMMARY:Sunday Service
DESCRIPTION:
URL:https://www.lsbcc.org/event/sunday-service-2024-10-13
END:VEVENT
BEGIN:VEVENT
DTSTART;TZID=America/Denver:20241006T100000
DTEND;TZID=America/Denver:20241006T110000
DTSTAMP:20260423T122538
CREATED:20231008T154409Z
LAST-MODIFIED:20231008T154409Z
UID:5215-1728208800-1728212400@www.lsbcc.org
SUMMARY:Sunday Service
DESCRIPTION:
URL:https://www.lsbcc.org/event/sunday-service-2024-10-06
END:VEVENT
BEGIN:VEVENT
DTSTART;TZID=America/Denver:20240929T100000
DTEND;TZID=America/Denver:20240929T110000
DTSTAMP:20260423T122538
CREATED:20231008T154409Z
LAST-MODIFIED:20231008T154409Z
UID:5214-1727604000-1727607600@www.lsbcc.org
SUMMARY:Sunday Service
DESCRIPTION:
URL:https://www.lsbcc.org/event/sunday-service-2024-09-29
END:VEVENT
BEGIN:VEVENT
DTSTART;TZID=America/Denver:20240922T100000
DTEND;TZID=America/Denver:20240922T110000
DTSTAMP:20260423T122538
CREATED:20231008T154409Z
LAST-MODIFIED:20231008T154409Z
UID:5213-1726999200-1727002800@www.lsbcc.org
SUMMARY:Sunday Service
DESCRIPTION:
URL:https://www.lsbcc.org/event/sunday-service-2024-09-22
END:VEVENT
BEGIN:VEVENT
DTSTART;TZID=America/Denver:20240915T100000
DTEND;TZID=America/Denver:20240915T110000
DTSTAMP:20260423T122538
CREATED:20231008T154409Z
LAST-MODIFIED:20231008T154409Z
UID:5212-1726394400-1726398000@www.lsbcc.org
SUMMARY:Sunday Service
DESCRIPTION:
URL:https://www.lsbcc.org/event/sunday-service-2024-09-15
END:VEVENT
BEGIN:VEVENT
DTSTART;TZID=America/Denver:20240908T100000
DTEND;TZID=America/Denver:20240908T110000
DTSTAMP:20260423T122538
CREATED:20231008T154409Z
LAST-MODIFIED:20231008T154409Z
UID:5211-1725789600-1725793200@www.lsbcc.org
SUMMARY:Sunday Service
DESCRIPTION:
URL:https://www.lsbcc.org/event/sunday-service-2024-09-08
END:VEVENT
BEGIN:VEVENT
DTSTART;TZID=America/Denver:20240901T100000
DTEND;TZID=America/Denver:20240901T110000
DTSTAMP:20260423T122538
CREATED:20231008T154409Z
LAST-MODIFIED:20231008T154409Z
UID:5210-1725184800-1725188400@www.lsbcc.org
SUMMARY:Sunday Service
DESCRIPTION:
URL:https://www.lsbcc.org/event/sunday-service-2024-09-01
END:VEVENT
BEGIN:VEVENT
DTSTART;TZID=America/Denver:20240825T100000
DTEND;TZID=America/Denver:20240825T110000
DTSTAMP:20260423T122538
CREATED:20231008T154409Z
LAST-MODIFIED:20231008T154409Z
UID:5209-1724580000-1724583600@www.lsbcc.org
SUMMARY:Sunday Service
DESCRIPTION:
URL:https://www.lsbcc.org/event/sunday-service-2024-08-25
END:VEVENT
BEGIN:VEVENT
DTSTART;TZID=America/Denver:20240818T100000
DTEND;TZID=America/Denver:20240818T110000
DTSTAMP:20260423T122538
CREATED:20231008T154409Z
LAST-MODIFIED:20231008T154409Z
UID:5208-1723975200-1723978800@www.lsbcc.org
SUMMARY:Sunday Service
DESCRIPTION:
URL:https://www.lsbcc.org/event/sunday-service-2024-08-18
END:VEVENT
BEGIN:VEVENT
DTSTART;TZID=America/Denver:20240811T100000
DTEND;TZID=America/Denver:20240811T110000
DTSTAMP:20260423T122538
CREATED:20231008T154409Z
LAST-MODIFIED:20231008T154409Z
UID:5207-1723370400-1723374000@www.lsbcc.org
SUMMARY:Sunday Service
DESCRIPTION:
URL:https://www.lsbcc.org/event/sunday-service-2024-08-11
END:VEVENT
BEGIN:VEVENT
DTSTART;TZID=America/Denver:20240804T100000
DTEND;TZID=America/Denver:20240804T110000
DTSTAMP:20260423T122538
CREATED:20231008T154409Z
LAST-MODIFIED:20231008T154409Z
UID:5206-1722765600-1722769200@www.lsbcc.org
SUMMARY:Sunday Service
DESCRIPTION:
URL:https://www.lsbcc.org/event/sunday-service-2024-08-04
END:VEVENT
BEGIN:VEVENT
DTSTART;TZID=America/Denver:20240728T100000
DTEND;TZID=America/Denver:20240728T110000
DTSTAMP:20260423T122538
CREATED:20231008T154409Z
LAST-MODIFIED:20231008T154409Z
UID:5205-1722160800-1722164400@www.lsbcc.org
SUMMARY:Sunday Service
DESCRIPTION:
URL:https://www.lsbcc.org/event/sunday-service-2024-07-28
END:VEVENT
BEGIN:VEVENT
DTSTART;TZID=America/Denver:20240721T100000
DTEND;TZID=America/Denver:20240721T110000
DTSTAMP:20260423T122538
CREATED:20231008T154409Z
LAST-MODIFIED:20231008T154409Z
UID:5204-1721556000-1721559600@www.lsbcc.org
SUMMARY:Sunday Service
DESCRIPTION:
URL:https://www.lsbcc.org/event/sunday-service-2024-07-21
END:VEVENT
BEGIN:VEVENT
DTSTART;TZID=America/Denver:20240714T100000
DTEND;TZID=America/Denver:20240714T110000
DTSTAMP:20260423T122538
CREATED:20231008T154409Z
LAST-MODIFIED:20231008T154409Z
UID:5203-1720951200-1720954800@www.lsbcc.org
SUMMARY:Sunday Service
DESCRIPTION:
URL:https://www.lsbcc.org/event/sunday-service-2024-07-14
END:VEVENT
BEGIN:VEVENT
DTSTART;TZID=America/Denver:20240707T100000
DTEND;TZID=America/Denver:20240707T110000
DTSTAMP:20260423T122538
CREATED:20231008T154409Z
LAST-MODIFIED:20231008T154409Z
UID:5202-1720346400-1720350000@www.lsbcc.org
SUMMARY:Sunday Service
DESCRIPTION:
URL:https://www.lsbcc.org/event/sunday-service-2024-07-07
END:VEVENT
BEGIN:VEVENT
DTSTART;TZID=America/Denver:20240630T100000
DTEND;TZID=America/Denver:20240630T110000
DTSTAMP:20260423T122538
CREATED:20231008T154409Z
LAST-MODIFIED:20231008T154409Z
UID:5201-1719741600-1719745200@www.lsbcc.org
SUMMARY:Sunday Service
DESCRIPTION:
URL:https://www.lsbcc.org/event/sunday-service-2024-06-30
END:VEVENT
BEGIN:VEVENT
DTSTART;TZID=America/Denver:20240623T100000
DTEND;TZID=America/Denver:20240623T110000
DTSTAMP:20260423T122538
CREATED:20231008T154409Z
LAST-MODIFIED:20231008T154409Z
UID:5200-1719136800-1719140400@www.lsbcc.org
SUMMARY:Sunday Service
DESCRIPTION:
URL:https://www.lsbcc.org/event/sunday-service-2024-06-23
END:VEVENT
BEGIN:VEVENT
DTSTART;TZID=America/Denver:20240616T100000
DTEND;TZID=America/Denver:20240616T110000
DTSTAMP:20260423T122538
CREATED:20231008T154409Z
LAST-MODIFIED:20231008T154409Z
UID:5199-1718532000-1718535600@www.lsbcc.org
SUMMARY:Sunday Service
DESCRIPTION:
URL:https://www.lsbcc.org/event/sunday-service-2024-06-16
END:VEVENT
BEGIN:VEVENT
DTSTART;TZID=America/Denver:20240609T100000
DTEND;TZID=America/Denver:20240609T110000
DTSTAMP:20260423T122538
CREATED:20231008T154409Z
LAST-MODIFIED:20231008T154409Z
UID:5198-1717927200-1717930800@www.lsbcc.org
SUMMARY:Sunday Service
DESCRIPTION:
URL:https://www.lsbcc.org/event/sunday-service-2024-06-09
END:VEVENT
BEGIN:VEVENT
DTSTART;TZID=America/Denver:20240602T100000
DTEND;TZID=America/Denver:20240602T110000
DTSTAMP:20260423T122538
CREATED:20231008T154409Z
LAST-MODIFIED:20231008T154409Z
UID:5197-1717322400-1717326000@www.lsbcc.org
SUMMARY:Sunday Service
DESCRIPTION:
URL:https://www.lsbcc.org/event/sunday-service-2024-06-02
END:VEVENT
BEGIN:VEVENT
DTSTART;TZID=America/Denver:20240526T100000
DTEND;TZID=America/Denver:20240526T110000
DTSTAMP:20260423T122538
CREATED:20231008T154409Z
LAST-MODIFIED:20231008T154409Z
UID:5196-1716717600-1716721200@www.lsbcc.org
SUMMARY:Sunday Service
DESCRIPTION:
URL:https://www.lsbcc.org/event/sunday-service-2024-05-26
END:VEVENT
BEGIN:VEVENT
DTSTART;TZID=America/Denver:20240519T100000
DTEND;TZID=America/Denver:20240519T110000
DTSTAMP:20260423T122538
CREATED:20231008T154409Z
LAST-MODIFIED:20231008T154409Z
UID:5195-1716112800-1716116400@www.lsbcc.org
SUMMARY:Sunday Service
DESCRIPTION:
URL:https://www.lsbcc.org/event/sunday-service-2024-05-19
END:VEVENT
BEGIN:VEVENT
DTSTART;TZID=America/Denver:20240512T100000
DTEND;TZID=America/Denver:20240512T110000
DTSTAMP:20260423T122538
CREATED:20231008T154409Z
LAST-MODIFIED:20231008T154409Z
UID:5194-1715508000-1715511600@www.lsbcc.org
SUMMARY:Sunday Service
DESCRIPTION:
URL:https://www.lsbcc.org/event/sunday-service-2024-05-12
END:VEVENT
BEGIN:VEVENT
DTSTART;TZID=America/Denver:20240505T100000
DTEND;TZID=America/Denver:20240505T110000
DTSTAMP:20260423T122538
CREATED:20231008T154409Z
LAST-MODIFIED:20231008T154409Z
UID:5193-1714903200-1714906800@www.lsbcc.org
SUMMARY:Sunday Service
DESCRIPTION:
URL:https://www.lsbcc.org/event/sunday-service-2024-05-05
END:VEVENT
BEGIN:VEVENT
DTSTART;TZID=America/Denver:20240428T100000
DTEND;TZID=America/Denver:20240428T110000
DTSTAMP:20260423T122538
CREATED:20231008T154409Z
LAST-MODIFIED:20231008T154409Z
UID:5192-1714298400-1714302000@www.lsbcc.org
SUMMARY:Sunday Service
DESCRIPTION:
URL:https://www.lsbcc.org/event/sunday-service-2024-04-28
END:VEVENT
BEGIN:VEVENT
DTSTART;TZID=America/Denver:20240421T100000
DTEND;TZID=America/Denver:20240421T110000
DTSTAMP:20260423T122538
CREATED:20231008T154409Z
LAST-MODIFIED:20231008T154409Z
UID:5191-1713693600-1713697200@www.lsbcc.org
SUMMARY:Sunday Service
DESCRIPTION:
URL:https://www.lsbcc.org/event/sunday-service-2024-04-21
END:VEVENT
BEGIN:VEVENT
DTSTART;TZID=America/Denver:20240414T100000
DTEND;TZID=America/Denver:20240414T110000
DTSTAMP:20260423T122538
CREATED:20231008T154409Z
LAST-MODIFIED:20231008T154409Z
UID:5190-1713088800-1713092400@www.lsbcc.org
SUMMARY:Sunday Service
DESCRIPTION:
URL:https://www.lsbcc.org/event/sunday-service-2024-04-14
END:VEVENT
END:VCALENDAR