BEGIN:VCALENDAR
VERSION:2.0
PRODID:-//La Selva Beach Community Church - ECPv6.13.2.1//NONSGML v1.0//EN
CALSCALE:GREGORIAN
METHOD:PUBLISH
X-WR-CALNAME:La Selva Beach Community Church
X-ORIGINAL-URL:https://www.lsbcc.org
X-WR-CALDESC:Events for La Selva Beach Community Church
REFRESH-INTERVAL;VALUE=DURATION:PT1H
X-Robots-Tag:noindex
X-PUBLISHED-TTL:PT1H
BEGIN:VTIMEZONE
TZID:America/Denver
BEGIN:DAYLIGHT
TZOFFSETFROM:-0700
TZOFFSETTO:-0600
TZNAME:MDT
DTSTART:20130310T090000
END:DAYLIGHT
BEGIN:STANDARD
TZOFFSETFROM:-0600
TZOFFSETTO:-0700
TZNAME:MST
DTSTART:20131103T080000
END:STANDARD
BEGIN:DAYLIGHT
TZOFFSETFROM:-0700
TZOFFSETTO:-0600
TZNAME:MDT
DTSTART:20140309T090000
END:DAYLIGHT
BEGIN:STANDARD
TZOFFSETFROM:-0600
TZOFFSETTO:-0700
TZNAME:MST
DTSTART:20141102T080000
END:STANDARD
END:VTIMEZONE
BEGIN:VEVENT
DTSTART;TZID=America/Denver:20140221T193000
DTEND;TZID=America/Denver:20140221T210000
DTSTAMP:20260424T211633
CREATED:20140203T042748Z
LAST-MODIFIED:20140203T043810Z
UID:1904-1393011000-1393016400@www.lsbcc.org
SUMMARY:Diana Butler Bass Keynote Lecture
DESCRIPTION:Diana Butler Bass\, author of Christianity After Religion\, will be speaking at Peace United Church of Christ.
URL:https://www.lsbcc.org/event/1904
LOCATION:Peace United Church of Christ (First Congregational Church of SC)\, 900 High Street\, Santa Cruz\, CA\, United States
END:VEVENT
BEGIN:VEVENT
DTSTART;TZID=America/Denver:20140220T193000
DTEND;TZID=America/Denver:20140220T210000
DTSTAMP:20260424T211633
CREATED:20140113T022048Z
LAST-MODIFIED:20140113T022048Z
UID:1884-1392924600-1392930000@www.lsbcc.org
SUMMARY:Christendom: Controversy & Division-The Fragmentation of Christendom
DESCRIPTION:Guest: Father Thaddaeus Hardenbrook\, St. Lawrence Orthodox Church in Felton\, representing the Eastern Orthodox expression of Christianity
URL:https://www.lsbcc.org/event/christendom-controversy-division-the-fragmentation-of-christendom
END:VEVENT
BEGIN:VEVENT
DTSTART;TZID=America/Denver:20140213T193000
DTEND;TZID=America/Denver:20140213T210000
DTSTAMP:20260424T211633
CREATED:20140113T022349Z
LAST-MODIFIED:20140113T022349Z
UID:1886-1392319800-1392325200@www.lsbcc.org
SUMMARY:Christendom: Contraction and Expansion-The Europeanization of Christianity
DESCRIPTION:Guest: Father Patrick Dowling: San Carlos Roman Catholic Cathedral in Monterey representing the Roman Catholic tradition
URL:https://www.lsbcc.org/event/christendom-contraction-and-expansion-the-europeanization-of-christianity
END:VEVENT
BEGIN:VEVENT
DTSTART;TZID=America/Denver:20140209T110000
DTEND;TZID=America/Denver:20140209T113000
DTSTAMP:20260424T211633
CREATED:20140203T041839Z
LAST-MODIFIED:20140203T044729Z
UID:1902-1391943600-1391945400@www.lsbcc.org
SUMMARY:Annual Meeting of LSBCC
DESCRIPTION:Immediately following worship we will convene for the Annual Meeting of the La Selva Beach Community Church.  Members and friends of the church are encouraged to attend.
URL:https://www.lsbcc.org/event/annual-meeting-2
END:VEVENT
BEGIN:VEVENT
DTSTART;TZID=America/Denver:20140206T193000
DTEND;TZID=America/Denver:20140206T210000
DTSTAMP:20260424T211633
CREATED:20140113T022251Z
LAST-MODIFIED:20140113T022251Z
UID:1885-1391715000-1391720400@www.lsbcc.org
SUMMARY:Christendom: Early Centuries of Christianity-An Afro-Eurasian Faith
DESCRIPTION:Guest: Father Lawrance Namato: Assyrian Church of the East in San Jose representing an ancient Persian-based Church of the East
URL:https://www.lsbcc.org/event/christendom-early-centuries-of-christianity-an-afro-eurasian-faith
END:VEVENT
BEGIN:VEVENT
DTSTART;TZID=America/Denver:20140105T110000
DTEND;TZID=America/Denver:20140105T120000
DTSTAMP:20260424T211633
CREATED:20131213T181152Z
LAST-MODIFIED:20131213T181152Z
UID:1872-1388919600-1388923200@www.lsbcc.org
SUMMARY:Book Study: Christianity After Religion
DESCRIPTION:Join us for a discussion of Christianity after Religion: The End of Church and the Birth of a New Spiritual Awakening by Diana Butler Bass after worship on January 5\, 2014. Sign ups at the back of the Sanctuary. \nThe author will be presenting a workshop on February 21 & 22\, 2014 sponsored by The Progressive Christian Forum of Santa Cruz. It will take place at First Congregational Church (now known as Peace UCC)\, 900 High Street\, Santa Cruz\, CA 95060.
URL:https://www.lsbcc.org/event/book-study-christianity-after-religion
END:VEVENT
BEGIN:VEVENT
DTSTART;TZID=America/Denver:20131224T193000
DTEND;TZID=America/Denver:20131224T210000
DTSTAMP:20260424T211633
CREATED:20131213T002545Z
LAST-MODIFIED:20131213T002545Z
UID:1870-1387913400-1387918800@www.lsbcc.org
SUMMARY:Christmas Eve Festival of Carols
DESCRIPTION:Join family and friends for Candlelight and Communion on this holy night.
URL:https://www.lsbcc.org/event/christmas-eve-festival-of-carols
END:VEVENT
BEGIN:VEVENT
DTSTART;TZID=America/Denver:20131222T100000
DTEND;TZID=America/Denver:20131222T120000
DTSTAMP:20260424T211633
CREATED:20131213T002300Z
LAST-MODIFIED:20131213T002300Z
UID:1869-1387706400-1387713600@www.lsbcc.org
SUMMARY:Fourth Sunday of Advent
DESCRIPTION:The Sunday School will present its Christmas play “A Hawaiian Christmas.”  Come see the kids in their premiere performance with ukeleles!! \nSteve & Ann Murphy will light the Advent Candle of Love. \nCoffee hour after worship: Please bring a plate of cookies to share!!
URL:https://www.lsbcc.org/event/fourth-sunday-of-advent
END:VEVENT
BEGIN:VEVENT
DTSTART;TZID=America/Denver:20131215T100000
DTEND;TZID=America/Denver:20131215T110000
DTSTAMP:20260424T211633
CREATED:20131213T000729Z
LAST-MODIFIED:20131214T015447Z
UID:1866-1387101600-1387105200@www.lsbcc.org
SUMMARY:Adopt-A-Family 2013 Donations Due
DESCRIPTION:This year\, the church has adopted TWO families!  Both families each have a young child (2 and under)\, and the list of needs is available at the church.  Please bring your donations and/or a $25 food gift card to the church by December 15\, 2013.  Thank You!
URL:https://www.lsbcc.org/event/adopt-a-family-2013
END:VEVENT
BEGIN:VEVENT
DTSTART;TZID=America/Denver:20131029T193000
DTEND;TZID=America/Denver:20131029T210000
DTSTAMP:20260424T211633
CREATED:20130911T191026Z
LAST-MODIFIED:20130911T191026Z
UID:1859-1383075000-1383080400@www.lsbcc.org
SUMMARY:Book/reading discussion
DESCRIPTION:Book reading and discussion of Fractures by Jay Schleiffer about the story of hope and courage in the face of addiction\, bi-polar disorder and transgender challenges.
URL:https://www.lsbcc.org/event/bookreading-discussion
END:VEVENT
BEGIN:VEVENT
DTSTART;TZID=America/Denver:20131027T113000
DTEND;TZID=America/Denver:20131027T130000
DTSTAMP:20260424T211633
CREATED:20130911T190734Z
LAST-MODIFIED:20130911T190734Z
UID:1858-1382873400-1382878800@www.lsbcc.org
SUMMARY:Writing workshop
DESCRIPTION:Welcome the Darkness.  Join Patrice Vecchione\, poet\, teacher\, and author of Writing and the Spiritual Life: Finding Your Voice Within\, to explore topics related to All Saints Day and other topics designed to support your spiritual and imaginative life.
URL:https://www.lsbcc.org/event/writing-workshop
END:VEVENT
BEGIN:VEVENT
DTSTART;TZID=America/Denver:20131026T090000
DTEND;TZID=America/Denver:20131026T150000
DTSTAMP:20260424T211633
CREATED:20130911T190123Z
LAST-MODIFIED:20130911T190123Z
UID:1856-1382778000-1382799600@www.lsbcc.org
SUMMARY:Women's Retreat
DESCRIPTION:Discovering the Woman at the Heart of Christianity – Mary Magdalene and her relationship with Jesus and the early Church will be explored.
URL:https://www.lsbcc.org/event/womens-retreat
END:VEVENT
BEGIN:VEVENT
DTSTART;TZID=America/Denver:20131006T100000
DTEND;TZID=America/Denver:20131006T110000
DTSTAMP:20260424T211633
CREATED:20130911T183607Z
LAST-MODIFIED:20130911T183607Z
UID:1854-1381053600-1381057200@www.lsbcc.org
SUMMARY:Blessing of the Animals
DESCRIPTION:Members and friends are invited to bring animal companions to be blessed.  Terry O’Donnell will discuss his involvement in raising and preparing a puppy to become an assistance dog.
URL:https://www.lsbcc.org/event/blessing-of-the-animals-2
LOCATION:La Selva Beach Library Lawn\, 26 Florido Avenue\, La Selva Beach
END:VEVENT
BEGIN:VEVENT
DTSTART;TZID=America/Denver:20130915T100000
DTEND;TZID=America/Denver:20130915T113000
DTSTAMP:20260424T211633
CREATED:20130911T173511Z
LAST-MODIFIED:20130911T173711Z
UID:1853-1379239200-1379244600@www.lsbcc.org
SUMMARY:Homecoming Sunday-Let Your Spirit Soar
DESCRIPTION:School is back in session\, summer vacations are over – let’s celebrate the beginning of a new program year! “Let Your Spirit Soar” this Sunday\, September 15\, with short vignettes centered on balloons\, good humor\, and a simple luncheon after the service.
URL:https://www.lsbcc.org/event/homecoming-sunday-let-your-spirit-soar
END:VEVENT
BEGIN:VEVENT
DTSTART;TZID=America/Denver:20130703T190000
DTEND;TZID=America/Denver:20130703T203000
DTSTAMP:20260424T211633
CREATED:20130526T165950Z
LAST-MODIFIED:20130526T165950Z
UID:1796-1372878000-1372883400@www.lsbcc.org
SUMMARY:Annual Ice Cream Social
DESCRIPTION:Join us for the annual ice cream social on the Library lawn.
URL:https://www.lsbcc.org/event/annual-ice-cream-social-2
END:VEVENT
BEGIN:VEVENT
DTSTART;TZID=America/Denver:20130616T100000
DTEND;TZID=America/Denver:20130616T110000
DTSTAMP:20260424T211633
CREATED:20130526T165438Z
LAST-MODIFIED:20130526T165438Z
UID:1793-1371376800-1371380400@www.lsbcc.org
SUMMARY:Fathers' Day
DESCRIPTION:The choir finishes their season and sings their favorite songs.  It’s a chance to say “thanks” to those people in our church who take on the week after week responsibilities of providing Sunday School and singing in the choir!  Gratitude and praise will be our themes for the day!
URL:https://www.lsbcc.org/event/fathers-day
END:VEVENT
BEGIN:VEVENT
DTSTART;TZID=America/Denver:20130609T100000
DTEND;TZID=America/Denver:20130609T110000
DTSTAMP:20260424T211633
CREATED:20130526T165022Z
LAST-MODIFIED:20130528T004757Z
UID:1790-1370772000-1370775600@www.lsbcc.org
SUMMARY:Santa Cruz Gospel Choir
DESCRIPTION:On June 9\, the Santa Cruz Community Gospel Choir will join us to sing three or four rousing gospel songs!  Their self-described goal is to “establish a community of love and support and to do service using music to nurture the heart and soul…”  They are looking forward to worshipping with us and to sharing their music — they love having a venue to perform. Please come to greet them and to be “nurtured\, heart and soul\,” by their gospel sound!  Invite your gospel music loving friends!
URL:https://www.lsbcc.org/event/santa-cruz-gospel-choir
END:VEVENT
BEGIN:VEVENT
DTSTART;TZID=America/Denver:20130602T103000
DTEND;TZID=America/Denver:20130602T120000
DTSTAMP:20260424T211633
CREATED:20130526T164413Z
LAST-MODIFIED:20130526T164413Z
UID:1788-1370169000-1370174400@www.lsbcc.org
SUMMARY:Gay Pride Parade-Downtown Santa Cruz
DESCRIPTION:Show your support of our Open and Affirming stand by joining church members at the Gay Pride Parade. We will meet at Cathcart and Pacific Avenues in downtown Santa Cruz by 10:30AM or join a carpool earlier at the church.
URL:https://www.lsbcc.org/event/gay-pride-parade-downtown-santa-cruz
END:VEVENT
BEGIN:VEVENT
DTSTART;TZID=America/Denver:20130526T100000
DTEND;TZID=America/Denver:20130526T110000
DTSTAMP:20260424T211633
CREATED:20130526T163902Z
LAST-MODIFIED:20130526T163902Z
UID:1786-1369562400-1369566000@www.lsbcc.org
SUMMARY:The Oceanaires Chorus Perform
DESCRIPTION:Memorial Day Weekend the Oceanaires\, the talented high school chorus from Monterey Bay Academy\, will be at LSBCC at 10:00am  Sunday\, May 26th\, bringing spirit and inspiration to our worship\, as they share sacred music from a variety of traditions.  In keeping with tradition\, strawberry shortcake will be served in the courtyard\, always a favorite of our young singers!  Be sure to invite your neighbors to join us for an uplifting hour.
URL:https://www.lsbcc.org/event/the-oceanaires-chorus-perform
END:VEVENT
BEGIN:VEVENT
DTSTART;TZID=America/Denver:20130416T193000
DTEND;TZID=America/Denver:20130416T210059
DTSTAMP:20260424T211633
CREATED:20130407T171604Z
LAST-MODIFIED:20130407T172813Z
UID:1764-1366140600-1366146059@www.lsbcc.org
SUMMARY:Part II: Future Healthcare Decisions
DESCRIPTION:Jim Morley Memorial series:\nPlanning Ahead for Peace of Mind \nAttend this free forum featuring community experts on: \n\nEstate Planning\nMaking your future healthcare decisions known\nRepresenting a loved one’s care wishes\nPreparing for difficult care decisions\n\nPart I: Estate Planning for Peace of Mind\nTuesday April 9\, 7:30pm to 9:00 pm \nPart II: Planning for Future Healthcare Decisions\nTuesday April 16\, 7:30 to 9:00 pm
URL:https://www.lsbcc.org/event/part-ii-future-healthcare-decisions
END:VEVENT
BEGIN:VEVENT
DTSTART;TZID=America/Denver:20130409T193000
DTEND;TZID=America/Denver:20130409T210059
DTSTAMP:20260424T211633
CREATED:20130407T171431Z
LAST-MODIFIED:20130407T172715Z
UID:1763-1365535800-1365541259@www.lsbcc.org
SUMMARY:Part I: Estate Planning
DESCRIPTION:Jim Morley Memorial series:\nPlanning Ahead for Peace of Mind \nAttend this free forum featuring community experts on: \n\nEstate Planning\nMaking your future healthcare decisions known\nRepresenting a loved one’s care wishes\nPreparing for difficult care decisions\n\nPart I: Estate Planning for Peace of Mind\nTuesday April 9\, 7:30pm to 9:00 pm \nPart II: Planning for Future Healthcare Decisions\nTuesday April 16\, 7:30 to 9:00 pm
URL:https://www.lsbcc.org/event/part-i-estate-planning
END:VEVENT
BEGIN:VEVENT
DTSTART;TZID=America/Denver:20130331T100000
DTEND;TZID=America/Denver:20130331T120059
DTSTAMP:20260424T211633
CREATED:20130211T131716Z
LAST-MODIFIED:20130211T131716Z
UID:1685-1364724000-1364731259@www.lsbcc.org
SUMMARY:Easter Worship Celebration & Easter Egg Hunt
DESCRIPTION:We’ll sing Christ the Lord Is Risen Today\, hear the Easter story once again\, be moved by the special music\, and consider the possibilities for transformation in our world and in our personal lives.  A coffee hour follows worship as does an Easter Egg Hunt for the children!
URL:https://www.lsbcc.org/event/easter-worship-celebration-easter-egg-hunt
END:VEVENT
BEGIN:VEVENT
DTSTART;TZID=America/Denver:20130331T063000
DTEND;TZID=America/Denver:20130331T073059
DTSTAMP:20260424T211633
CREATED:20130211T130804Z
LAST-MODIFIED:20130211T132517Z
UID:1683-1364711400-1364715059@www.lsbcc.org
SUMMARY:Easter Sunrise at Rio Del Mar Beach
DESCRIPTION:Greet the good news of Easter by rising early\, dressing warmly\, and joining our neighboring churches for a simple worship with communion at the Rio Del Mar Beach.  A beautiful way to begin the day….
URL:https://www.lsbcc.org/event/easter-sunrise
END:VEVENT
BEGIN:VEVENT
DTSTART;TZID=America/Denver:20130213T193000
DTEND;TZID=America/Denver:20130213T203059
DTSTAMP:20260424T211633
CREATED:20130211T130006Z
LAST-MODIFIED:20130211T130006Z
UID:1678-1360783800-1360787459@www.lsbcc.org
SUMMARY:Ash Wednesday Service
DESCRIPTION:Join us for an informal gathering around the alter.
URL:https://www.lsbcc.org/event/ash-wednesday-service
END:VEVENT
BEGIN:VEVENT
DTSTART;TZID=America/Denver:20130210T100000
DTEND;TZID=America/Denver:20130210T113059
DTSTAMP:20260424T211633
CREATED:20130211T125439Z
LAST-MODIFIED:20130211T125439Z
UID:1677-1360490400-1360495859@www.lsbcc.org
SUMMARY:Annual Meeting
DESCRIPTION:
URL:https://www.lsbcc.org/event/annual-meeting
END:VEVENT
BEGIN:VEVENT
DTSTART;TZID=America/Denver:20130209T130000
DTEND;TZID=America/Denver:20130209T170059
DTSTAMP:20260424T211633
CREATED:20130211T131248Z
LAST-MODIFIED:20130211T131248Z
UID:1684-1360414800-1360429259@www.lsbcc.org
SUMMARY:GSA Summit @ Harbor High
DESCRIPTION:followed by a pizza party!
URL:https://www.lsbcc.org/event/gsa-summit-harbor-high
END:VEVENT
BEGIN:VEVENT
DTSTART;TZID=America/Denver:20130209T090000
DTEND;TZID=America/Denver:20130209T150059
DTSTAMP:20260424T211633
CREATED:20130112T013400Z
LAST-MODIFIED:20130112T014448Z
UID:1631-1360400400-1360422059@www.lsbcc.org
SUMMARY:The Subversive Way of Jesus: A Two-Day Workshop (Santa Cruz)
DESCRIPTION:This two-day workshop is sponsored by The Progressive Christian Forum and features Dr. Robin Meyers\, UCC minster and author of The Underground Church: Reclaiming the Subversive Way of Jesus. Session dates and locations are as follows: \nFriday\, Feb 8\, 2013: 7:30pm Calvary Episcopal Church of Santa Cruz\nSaturday\, Feb 9\, 2013: 9:00am-3:00pm First Congregational Church of Santa Cruz \nRegister on-line at fccsantacruz.org or with registration forms available at our church. Cost is $65.
URL:https://www.lsbcc.org/event/the-subversive-way-of-jesus-a-two-day-workshop-santa-cruz
END:VEVENT
BEGIN:VEVENT
DTSTART;TZID=America/Denver:20130208T193000
DTEND;TZID=America/Denver:20130209T210059
DTSTAMP:20260424T211633
CREATED:20121127T083535Z
LAST-MODIFIED:20130112T014342Z
UID:1610-1360351800-1360443659@www.lsbcc.org
SUMMARY:The Subversive Way of Jesus: A Two-Day Workshop (Santa Cruz)
DESCRIPTION:This two-day workshop is sponsored by The Progressive Christian Forum and features Dr. Robin Meyers\, UCC minster and author of The Underground Church: Reclaiming the Subversive Way of Jesus. Session dates and locations are as follows: \nFriday\, Feb 8\, 2013: 7:30pm Calvary Episcopal Church of Santa Cruz\nSaturday\, Feb 9\, 2013: 9:00am-3:00pm First Congregational Church of Santa Cruz \nRegister on-line at fccsantacruz.org or with registration forms available at our church. Cost is $65.
URL:https://www.lsbcc.org/event/the-subversive-way-of-jesus-a-two-day-workshop
END:VEVENT
BEGIN:VEVENT
DTSTART;TZID=America/Denver:20130125T191500
DTEND;TZID=America/Denver:20130125T210059
DTSTAMP:20260424T211633
CREATED:20130112T015708Z
LAST-MODIFIED:20130112T015845Z
UID:1641-1359141300-1359147659@www.lsbcc.org
SUMMARY:Poetry Night at a Member's Home
DESCRIPTION:Bring your favorite poem or prose – silly or serious\, poignant or profound. Graciously hosted at a member’s lovely Los Barrancos home. (Contact the church for more details.)
URL:https://www.lsbcc.org/event/poetry-night
END:VEVENT
BEGIN:VEVENT
DTSTART;TZID=America/Denver:20130120T100000
DTEND;TZID=America/Denver:20130120T110059
DTSTAMP:20260424T211633
CREATED:20130112T015057Z
LAST-MODIFIED:20130112T015057Z
UID:1640-1358676000-1358679659@www.lsbcc.org
SUMMARY:Baptism
DESCRIPTION:Following the service\, coffee hour will be hosted by the Sunday School in honor of this special event!
URL:https://www.lsbcc.org/event/baptism
END:VEVENT
END:VCALENDAR