BEGIN:VCALENDAR
VERSION:2.0
PRODID:-//La Selva Beach Community Church - ECPv6.13.2.1//NONSGML v1.0//EN
CALSCALE:GREGORIAN
METHOD:PUBLISH
X-WR-CALNAME:La Selva Beach Community Church
X-ORIGINAL-URL:https://www.lsbcc.org
X-WR-CALDESC:Events for La Selva Beach Community Church
REFRESH-INTERVAL;VALUE=DURATION:PT1H
X-Robots-Tag:noindex
X-PUBLISHED-TTL:PT1H
BEGIN:VTIMEZONE
TZID:America/Denver
BEGIN:DAYLIGHT
TZOFFSETFROM:-0700
TZOFFSETTO:-0600
TZNAME:MDT
DTSTART:20150308T090000
END:DAYLIGHT
BEGIN:STANDARD
TZOFFSETFROM:-0600
TZOFFSETTO:-0700
TZNAME:MST
DTSTART:20151101T080000
END:STANDARD
END:VTIMEZONE
BEGIN:VEVENT
DTSTART;TZID=America/Denver:20151115T111500
DTEND;TZID=America/Denver:20151115T121500
DTSTAMP:20260424T142927
CREATED:20151027T030318Z
LAST-MODIFIED:20151029T151902Z
UID:2199-1447586100-1447589700@www.lsbcc.org
SUMMARY:Living the Questions: A Video Discussion Series
DESCRIPTION:All are welcome to join in the Living the Questions Series. Each week’s video will center around a given theme and be followed by a group discussion. Pastor Jane Grady and Tom Bastasch will facilitate this series of discussions. \nNovember 15\, Week 3:  Incarnation: Divinely Human                                              What are the implications for your faith of embracing Jesus’ humanity? \nDecember 6\, Week 4: Prayer: Intimacy with God                                                        If prayer isn’t a direct and effective way of influencing the Divine for our own benefit\, what good is it? \nDecember 13\, Week 5: Compassion: The Heart of Jesus’ Ministry                      What is the central message of Jesus’ teaching in life? \nJanuary 10\, Week 6: Creative Transformation                                                             How does the following ring true for you: “the spirituality many are seeking is not to the left or to the right\, but deeper”? \nJanuary 24\, Week 7: Embracing Mystery                                                                      How would acknowledging that “we dwell in mystery” affect one’s day-to-day outlook on the world?
URL:https://www.lsbcc.org/event/living-the-questions-a-video-discussion-series-3
END:VEVENT
BEGIN:VEVENT
DTSTART;TZID=America/Denver:20151115T093000
DTEND;TZID=America/Denver:20151115T100000
DTSTAMP:20260424T142927
CREATED:20150813T194539Z
LAST-MODIFIED:20160319T210118Z
UID:2142-1447579800-1447581600@www.lsbcc.org
SUMMARY:St Pete's Cafe (Weekly)
DESCRIPTION:St Pete’s Cafe is open for coffee and stimulating conversation every Sunday at 9:30\, BEFORE church. Come in\, enjoy a relaxing cup of coffee or tea or kickstart your day and meet new friends or have a short meeting.
URL:https://www.lsbcc.org/event/st-petes-cafe-2-3
END:VEVENT
BEGIN:VEVENT
DTSTART;TZID=America/Denver:20151113T183000
DTEND;TZID=America/Denver:20151113T210000
DTSTAMP:20260424T142927
CREATED:20150909T044604Z
LAST-MODIFIED:20151030T023502Z
UID:2159-1447439400-1447448400@www.lsbcc.org
SUMMARY:All Church Dinner
DESCRIPTION:Please join us on Friday\, November 13 for our annual All Church Dinner at 6:30PM  at the home of Marilyn Schultz and Jay Hicks. Our special guest speaker this year is Ron Buford\, who will speak on “Hope for the Future.” Ron spoke at our 2008 Stewardship Dinner; when he encouraged us to proceed with our renovation project despite the recession. We did it!  Many thanks for your encouragement\, Ron! \nRon is the creator of the UCC “Still Speaking Initiative\,” and currently pastor of the Sunnyvale Congregational Community Church.
URL:https://www.lsbcc.org/event/stewardship-dinner
END:VEVENT
BEGIN:VEVENT
DTSTART;TZID=America/Denver:20151110T183000
DTEND;TZID=America/Denver:20151110T200000
DTSTAMP:20260424T142927
CREATED:20151031T073942Z
LAST-MODIFIED:20151031T074033Z
UID:2211-1447180200-1447185600@www.lsbcc.org
SUMMARY:Community Forum
DESCRIPTION:District 2 County Supervisor Zach Friend and Sheriff Jim Hart will hold a community forum on Tuesday\, November 10 at 6:30PM at LSBCC. They will answer your questions\, concerns and let us know what is happening in our area. Invite your friends\, neighbors; come and participate.
URL:https://www.lsbcc.org/event/community-forum
END:VEVENT
BEGIN:VEVENT
DTSTART;TZID=America/Denver:20151108T111500
DTEND;TZID=America/Denver:20151108T121500
DTSTAMP:20260424T142927
CREATED:20151027T024739Z
LAST-MODIFIED:20151029T151927Z
UID:2197-1446981300-1446984900@www.lsbcc.org
SUMMARY:Living the Questions: A Video Discussion Series
DESCRIPTION:All are welcome to join in the Living the Questions Series. Each week’s video will center around a given theme and be followed by a group discussion. Pastor Jane Grady and Tom Bastasch will facilitate this series of discussions. \nNovember 8\, Week 2: Social Justice: Realizing God’s Vision                              What breaks your heart about your world or the system by which it’s organized? \nNovember 15\, Week 3:  Incarnation: Divinely Human                                              What are the implications for your faith of embracing Jesus’ humanity? \nDecember 6\, Week 4: Prayer: Intimacy with God                                                        If prayer isn’t a direct and effective way of influencing the Divine for our own benefit\, what good is it? \nDecember 13\, Week 5: Compassion: The Heart of Jesus’ Ministry                      What is the central message of Jesus’ teaching in life? \nJanuary 10\, Week 6: Creative Transformation                                                             How does the following ring true for you: “the spirituality many are seeking is not to the left or to the right\, but deeper”? \nJanuary 24\, Week 7: Embracing Mystery                                                                      How would acknowledging that “we dwell in mystery” affect one’s day-to-day outlook on the world?
URL:https://www.lsbcc.org/event/living-the-questions-a-video-discussion-series-2
END:VEVENT
BEGIN:VEVENT
DTSTART;TZID=America/Denver:20151107T080000
DTEND;TZID=America/Denver:20151107T170000
DTSTAMP:20260424T142927
CREATED:20151031T073327Z
LAST-MODIFIED:20151031T073327Z
UID:2210-1446883200-1446915600@www.lsbcc.org
SUMMARY:Men's Kayak Adventure
DESCRIPTION:Bob Roach has planned a kayak adventure in Elkhart Slough on Saturday\, November 7. Contact Bob for more information.
URL:https://www.lsbcc.org/event/mens-kayak-adventure
END:VEVENT
BEGIN:VEVENT
DTSTART;TZID=America/Denver:20151107T080000
DTEND;TZID=America/Denver:20151107T170000
DTSTAMP:20260424T142927
CREATED:20151031T073007Z
LAST-MODIFIED:20151031T073007Z
UID:2209-1446883200-1446915600@www.lsbcc.org
SUMMARY:Patty Smith: Reiki
DESCRIPTION:Patty Smith of “Room for Hope Ministry” is offering Christian Prayer + Reiki sessions at the church on Saturday\, November 7\, by appointment. For a private appointment or more information\, please contact Patty at 206-890-0031 or at  patricia.anne@mac.com \n Reiki is a Japanese word meaning ‘universal  life energy.’ Reiki is a healing technique based on the principle that  the therapist can share healing energies with the patient by means of touch\, to activate and restore natural balance for physical\, spiritual and emotional well-being.
URL:https://www.lsbcc.org/event/patty-smith-reiki
END:VEVENT
BEGIN:VEVENT
DTSTART;TZID=America/Denver:20151101T111500
DTEND;TZID=America/Denver:20151101T121500
DTSTAMP:20260424T142927
CREATED:20151027T024143Z
LAST-MODIFIED:20151029T151942Z
UID:2196-1446376500-1446380100@www.lsbcc.org
SUMMARY:Living the Questions: A Video Discussion Series
DESCRIPTION:All are welcome to join in the Living the Questions Series. Each week’s video will center around a given theme and be followed by a group discussion. Pastor Jane Grady and Tom Bastasch will facilitate this series of discussions. \nNovember 1\,  Week 1: A Kingdom Without Walls                                                          In what ways are our prejudices\, ignorance and insecurities intertwined? \nNovember 8\, Week 2: Social Justice: Realizing God’s Vision                                 What breaks your heart about your world or the system by which it’s organized? \nNovember 15\, Week 3:  Incarnation: Divinely Human                                               What are the implications for your faith of embracing Jesus’ humanity? \nDecember 6\, Week 4: Prayer: Intimacy with God                                                         If prayer isn’t a direct and effective way of influencing the Divine for our own benefit\, what good is it? \nDecember 13\, Week 5: Compassion: The Heart of Jesus’ Ministry                      What is the central message of Jesus’ teaching in life? \nJanuary 10\, Week 6: Creative Transformation                                                              How does the following ring true for you: ‘the spirituality many are seeking is not to the left or to the right\, but deeper’? \nJanuary 24\, Week 7: Embracing Mystery                                                                         How would acknowledging that we ‘dwell in mystery’ affect one’s day-to-day outlook on the world?
URL:https://www.lsbcc.org/event/living-the-questions-a-video-discussion-series
END:VEVENT
BEGIN:VEVENT
DTSTART;TZID=America/Denver:20151019T190000
DTEND;TZID=America/Denver:20151019T203000
DTSTAMP:20260424T142927
CREATED:20150810T031915Z
LAST-MODIFIED:20150825T222336Z
UID:2139-1445281200-1445286600@www.lsbcc.org
SUMMARY:David Roth Music Concert
DESCRIPTION:Take a break from your busy schedule and enjoy and evening of music featuring\, David Roth\, guitarist and singer. David’s songs have found their way to Carnegie Hall\, the United Nations\, several Chicken Soup for the Soul books\, the Kennedy Center\, NASA’s Space Shuttle “Atlantis”\, Peter\, Paul & Mary’s 2014 Retrospective “Discovered”\, the Kingston Trio’s “Born At the Right Time”\, plus 13 CD’s and countless other venues and countries over the past 25 years. His music has been described as ‘poignant to improbable\, holistic to hilarious.’ Join us for an evening to remember… \nDonation: $15.00\, no one will be turned away\n \n 
URL:https://www.lsbcc.org/event/david-roth-music-concert
LOCATION:La Selva Beach Community Church\, 26 Florido Avenue\, La Selva Beach\, 95076\, United States
END:VEVENT
BEGIN:VEVENT
DTSTART;TZID=America/Denver:20151011T100000
DTEND;TZID=America/Denver:20151011T120000
DTSTAMP:20260424T142927
CREATED:20150810T031512Z
LAST-MODIFIED:20150810T031512Z
UID:2138-1444557600-1444564800@www.lsbcc.org
SUMMARY:Celebrating Icy Young's 25 Years of Service to LSBCC
DESCRIPTION:More information to come
URL:https://www.lsbcc.org/event/celebrating-icy-youngs-25-years-of-service-to-lsbcc
END:VEVENT
BEGIN:VEVENT
DTSTART;TZID=America/Denver:20151001T193000
DTEND;TZID=America/Denver:20151001T210000
DTSTAMP:20260424T142927
CREATED:20150814T175514Z
LAST-MODIFIED:20150814T175914Z
UID:2143-1443727800-1443733200@www.lsbcc.org
SUMMARY:On Care For Our Common Home: A Community Forum on the Pope"s Encyclical
DESCRIPTION:The Progressive Christian Forum of Santa Cruz and Resurrection Church present:\nAn Evening’s Reflection on the Pope”s Encyclical and his visit to the United States \nMarkey Community Center of the Resurrection Catholic Community Church\n7600 Soquel Drive\, Aptos\nThursday\, October 1\, 2015\n7:30-9:00 PM \nSpeakers include:\nKeith Warner\, a Franciscan friar with a Ph.D. in Environmental Studies\nJeffrey Kiehl\, cited as “one of the top climate scientists in the world”\nAndrew Szasz\, chairperson of the Environmental Studies Department at UCSC \nThere will be ann opportunity for questions and comments from the audience. \n 
URL:https://www.lsbcc.org/event/on-care-for-our-common-home-a-community-forum-on-the-popes-encyclical
LOCATION:Unnamed Venue\, 7600 Soquel Drive\, 95003
END:VEVENT
BEGIN:VEVENT
DTSTART;TZID=America/Denver:20150915T193000
DTEND;TZID=America/Denver:20150915T210000
DTSTAMP:20260424T142927
CREATED:20150814T180549Z
LAST-MODIFIED:20150814T180713Z
UID:2136-1442345400-1442350800@www.lsbcc.org
SUMMARY:Circles of Christian Living
DESCRIPTION:The Circles of Christian Living resumes September 15 at Sue Lawson’s home.\nA participant facilitated conversation about spiritual matters\, addressing such subjects as how do we experience the Divine\, what is our understanding of the Christian path and how does our faith make a difference in our daily lives. \n 
URL:https://www.lsbcc.org/event/2136
END:VEVENT
BEGIN:VEVENT
DTSTART;TZID=America/Denver:20150913T100000
DTEND;TZID=America/Denver:20150913T120000
DTSTAMP:20260424T142927
CREATED:20150810T030026Z
LAST-MODIFIED:20150810T030026Z
UID:2134-1442138400-1442145600@www.lsbcc.org
SUMMARY:Welcome Back Sunday
DESCRIPTION:Join us for intergenerational fun after worship.
URL:https://www.lsbcc.org/event/welcome-back-sunday
END:VEVENT
BEGIN:VEVENT
DTSTART;TZID=America/Denver:20150823T111500
DTEND;TZID=America/Denver:20150823T150000
DTSTAMP:20260424T142927
CREATED:20150810T023845Z
LAST-MODIFIED:20150810T025744Z
UID:2131-1440328500-1440342000@www.lsbcc.org
SUMMARY:LSBCC Swim Party!
DESCRIPTION:JOIN THE FUN at the Los Barrancos Pool on LSBCC Swim Sunday~11:15-3:00!            Kids bring your parents\, grandparents and a friend! Bring sandwiches and drinks in plastic containers for your family\, along with towels and pool gear and plan to stay awhile. Note: Babies must wear pool diapers. \n“Warmest water in the West” The fog will dissipate & we will all have fun in the sun!  \nBe sure to pick up a flier at the back of the church for the Los Barrancos gate code. Questions??? Call Marilyn at 831-334-5698
URL:https://www.lsbcc.org/event/lsbcc-swim-party
LOCATION:Los Barrancos
END:VEVENT
BEGIN:VEVENT
DTSTART;TZID=America/Denver:20150816T110000
DTEND;TZID=America/Denver:20150816T130000
DTSTAMP:20260424T142927
CREATED:20111121T114425Z
LAST-MODIFIED:20150810T032403Z
UID:1269-1439722800-1439730000@www.lsbcc.org
SUMMARY:Garden Work Day
DESCRIPTION:After worship on Sunday\, August 16\,  at 11AM\, join us for our Summer  Garden Work Day to keep the Church garden beautiful and welcoming.  Garden clothes and shoes are appropriate for church. Please bring clippers\, shears\, shovels\, rakes\, garden gloves and any other tools you think might be helpful. A light lunch will be served after we an hour and a half of beautification. All thumbs welcome\, green and otherwise!
URL:https://www.lsbcc.org/event/garden-work-party
END:VEVENT
BEGIN:VEVENT
DTSTART;TZID=America/Denver:20150815T010000
DTEND;TZID=America/Denver:20150815T170000
DTSTAMP:20260424T142927
CREATED:20150810T201318Z
LAST-MODIFIED:20150810T201318Z
UID:2140-1439600400-1439658000@www.lsbcc.org
SUMMARY:Reiki with Patty Smith
DESCRIPTION:Reiki  on Saturday\, August 15th\, Patty Smith of “Room for Hope Ministry” is offering Christian Prayer + Reiki sessions at the  church by  appointment after 1PM. For a private appointment or more information\, please contact Patty at 206-890-0031 or at  patricia.anne@mac.com \n \nReiki is a Japanese word meaning ‘universal  life energy.’ Reiki is a healing technique based on the principle that  the therapist can share healing energies with the patient by means of touch\, to activate and restore natural balance for physical\, spiritual and emotional well-being. \n \n  \n\n\n  \n\n\n\n  \n 
URL:https://www.lsbcc.org/event/reiki-with-patty-smith
END:VEVENT
BEGIN:VEVENT
DTSTART;TZID=America/Denver:20150725T100000
DTEND;TZID=America/Denver:20150725T110000
DTSTAMP:20260424T142927
CREATED:20150612T162517Z
LAST-MODIFIED:20150612T162517Z
UID:2046-1437818400-1437822000@www.lsbcc.org
SUMMARY:St. Pete's Team Brunch
DESCRIPTION:Do you love to meet your friends for coffee and conversation? You are invited to join St. Pete’s Team! At 10:00\, Saturday\, July 25 Peter and Marilyn will host a brunch and class in the Fellowship Hall\, on all that is involved in setting up and using the coffee equipment for each Sunday’s St. Pete’s Cafe. Be sure to sign-up at the back of the church.
URL:https://www.lsbcc.org/event/st-petes-team-brunch
LOCATION:La Selva Beach Community Church\, 26 Florido Avenue\, La Selva Beach\, 95076\, United States
END:VEVENT
BEGIN:VEVENT
DTSTART;TZID=America/Denver:20150719T093000
DTEND;TZID=America/Denver:20150719T100000
DTSTAMP:20260424T142927
CREATED:20150612T164815Z
LAST-MODIFIED:20150612T173217Z
UID:2050-1437298200-1437300000@www.lsbcc.org
SUMMARY:St Pete's Cafe
DESCRIPTION:“Meet me at 9:30 at St Pete’s”  is code for “Let’s get together over coffee for conversation at church\, BEFORE church. Individuals and small groups have begun meeting prior to our church service to relax\, meet new friends and have short meetings at St Pete’s.
URL:https://www.lsbcc.org/event/st-petes-cafe-2
END:VEVENT
BEGIN:VEVENT
DTSTART;TZID=America/Denver:20150718T180000
DTEND;TZID=America/Denver:20150718T210000
DTSTAMP:20260424T142927
CREATED:20150612T170111Z
LAST-MODIFIED:20150716T223838Z
UID:2051-1437242400-1437253200@www.lsbcc.org
SUMMARY:Progressive Dinner
DESCRIPTION:Our annual Progressive Dinner is Saturday evening\, July 18 at 6:00PM . Join us at this great social event! We will enjoy the homes and hospitality of Tom & Liz Phair and Sue Lawson\, as we nosh our way through the La Selva Beach area. Bring an appetizer\, salad or dessert to share. Tom & Liz Phair have graciously offered to host appetizers in their home. The main course and dessert will be hosted by the always hospitable Sue Lawson. If you have not yet signed up\, please stop by or call the church office to inquire as what is needed. We look forward to seeing you all at these two beautiful beachside homes.
URL:https://www.lsbcc.org/event/progressive-dinner-2
LOCATION:A Member's Home\, La Selva Beach
END:VEVENT
BEGIN:VEVENT
DTSTART;TZID=America/Denver:20150712T113000
DTEND;TZID=America/Denver:20150712T113000
DTSTAMP:20260424T142927
CREATED:20150612T172052Z
LAST-MODIFIED:20150612T174659Z
UID:2056-1436700600-1436700600@www.lsbcc.org
SUMMARY:Introduction to Reiki
DESCRIPTION:The word Reiki is made of two Japanese words\, Rei which means “God’s Wisdom or the higher power” and Ki which is ‘life force energy.” After our worship service today\, Patty Smith will present an hour long introduction to Reiki; she will combine demonstration along with information\, scientific research and first-hand experiences of witnessing God’s mysterious ways of healing body\, mind and spirit. This helpful workshop is open to anyone.
URL:https://www.lsbcc.org/event/introduction-to-reiki
END:VEVENT
BEGIN:VEVENT
DTSTART;TZID=America/Denver:20150705T093000
DTEND;TZID=America/Denver:20150705T095500
DTSTAMP:20260424T142927
CREATED:20150629T051939Z
LAST-MODIFIED:20150629T052256Z
UID:2092-1436088600-1436090100@www.lsbcc.org
SUMMARY:St Pete's Cafe
DESCRIPTION:“Meet me at 9:30 at St Pete’s”  is code for “Let’s get together over coffee for conversation at church\, BEFORE church. Individuals and small groups have begun meeting prior to our church service to relax\, meet new friends and have short meetings at St Pete’s. \nSt Pete’s Cafe is open from 9:30-9:55AM every Sunday\, and re-opens at 11:00 after the church service.
URL:https://www.lsbcc.org/event/st-petes-cafe-2-2
LOCATION:La Selva Beach Community Church\, 26 Florido Avenue\, La Selva Beach\, 95076\, United States
END:VEVENT
BEGIN:VEVENT
DTSTART;TZID=America/Denver:20150628T100000
DTEND;TZID=America/Denver:20150628T110000
DTSTAMP:20260424T142927
CREATED:20150612T170556Z
LAST-MODIFIED:20150612T170556Z
UID:2054-1435485600-1435489200@www.lsbcc.org
SUMMARY:Semi-Annual Meeting
DESCRIPTION:Combined Worship and Semi-Annual Meeting of the church celebrating our church’s ministries and mission.
URL:https://www.lsbcc.org/event/semi-annual-meeting-3
END:VEVENT
BEGIN:VEVENT
DTSTART;TZID=America/Denver:20150621T100000
DTEND;TZID=America/Denver:20150621T110000
DTSTAMP:20260424T142927
CREATED:20150612T170305Z
LAST-MODIFIED:20150612T170305Z
UID:2053-1434880800-1434884400@www.lsbcc.org
SUMMARY:Happy Father's Day!
DESCRIPTION:
URL:https://www.lsbcc.org/event/happy-fathers-day
END:VEVENT
BEGIN:VEVENT
DTSTART;TZID=America/Denver:20150607T103000
DTEND;TZID=America/Denver:20150607T120000
DTSTAMP:20260424T142927
CREATED:20150212T071737Z
LAST-MODIFIED:20150212T071737Z
UID:1970-1433673000-1433678400@www.lsbcc.org
SUMMARY:Pride Parade
DESCRIPTION:Please join us\, as we march in the annual  Santa Cruz County Pride Parade on Sunday\, June 7\, 2015. This will be the 41st Annual Pride Parade\, this year’s theme is Transitions. Join us as an ally or a member of the LGBT community; together we stand united for peace\, equality and justice.\nThere are many educational and informational booths open along Pacific Ave after the parade.\n*We need 2 monitors to attend a 1-hour training on May 28\, 5:30 – 6:30 or June 1\, 6:00 – 7:00PM\, please contact an ONA member if you are interested in being a monitor–you will still be able to march with us!
URL:https://www.lsbcc.org/event/pride-parade
LOCATION:Pacific & Church Streets\, Santa Cruz\, CA
END:VEVENT
BEGIN:VEVENT
DTSTART;TZID=America/Denver:20150607T100000
DTEND;TZID=America/Denver:20150607T120000
DTSTAMP:20260424T142927
CREATED:20150501T230821Z
LAST-MODIFIED:20150501T230821Z
UID:2044-1433671200-1433678400@www.lsbcc.org
SUMMARY:41st Annual Santa Cruz Pride Parade
DESCRIPTION:Our church marches in this parade to witness to its support for full inclusion of and equal rights for the LGBT community.  Will you march with us?  You are welcome to invite a friend or neighbor\, who is also committed to this important civil rights issue to march with us. Call Sheri Watson-Riley for more information.
URL:https://www.lsbcc.org/event/41st-annual-santa-cruz-pride-parade
LOCATION:Downtown Santa Cruz
END:VEVENT
BEGIN:VEVENT
DTSTART;TZID=America/Denver:20150524T100000
DTEND;TZID=America/Denver:20150524T110000
DTSTAMP:20260424T142927
CREATED:20150501T225408Z
LAST-MODIFIED:20150501T225408Z
UID:2042-1432461600-1432465200@www.lsbcc.org
SUMMARY:Pentecost Sunday
DESCRIPTION:Our guest worship leader is the Rev. Deborah Streeter bringing a reflection on the Pentecost experience and what it might have to say to current church life.  A lovely coffee hour will follow the worship service. \n 
URL:https://www.lsbcc.org/event/pentecost-sunday
END:VEVENT
BEGIN:VEVENT
DTSTART;TZID=America/Denver:20150519T073000
DTEND;TZID=America/Denver:20150519T210000
DTSTAMP:20260424T142927
CREATED:20150501T225115Z
LAST-MODIFIED:20150501T225115Z
UID:2041-1432020600-1432069200@www.lsbcc.org
SUMMARY:Circles of Christian Living
DESCRIPTION:Sue Lawson is hosting the Circles of Christian Living in her home on Tuesday\, May 19\, 7:30PM. Please join us to hear presenter Ann Murphy’s inspirational message. \nContact the church office for directions.
URL:https://www.lsbcc.org/event/circles-of-christian-living
LOCATION:A Member's Home\, La Selva Beach
END:VEVENT
BEGIN:VEVENT
DTSTART;TZID=America/Denver:20150509T173000
DTEND;TZID=America/Denver:20150509T210000
DTSTAMP:20260424T142927
CREATED:20150212T070404Z
LAST-MODIFIED:20150501T231350Z
UID:1968-1431192600-1431205200@www.lsbcc.org
SUMMARY:Queer Youth Leadership Awards
DESCRIPTION:We hope you will join us for an inspirational evening honoring LGBTIQ youth leaders of Santa Cruz County\, of which we are supporters.This year\, our beloved\, Sylvia Gerbl was nominated for a Queer Youth Leadership award and will be posthumously honored.  Let’s be there to support the work of this task force with the LGBT community and to witness to Sylvia’s commitment to children. \nThis year’s awards dinner will be held at San Lorenzo Valley High School on Saturday\, May 9 at 5:30PM. Ticket are available from BrownPaperTickets.com Be sure to indicate you would like to sit at the LSBCC table. Questions? See Sheri Watson-Riley
URL:https://www.lsbcc.org/event/queer-youth-leadership-awards
LOCATION:San Lorenzo Valley High School\, 7105 Highway 9\, Felton\, CA
END:VEVENT
BEGIN:VEVENT
DTSTART;TZID=America/Denver:20150426T093000
DTEND;TZID=America/Denver:20150426T095500
DTSTAMP:20260424T142927
CREATED:20150501T223450Z
LAST-MODIFIED:20150501T224532Z
UID:2039-1430040600-1430042100@www.lsbcc.org
SUMMARY:Church Café
DESCRIPTION:Early morning coffee anyone!  How about a quiet stroll through the garden with a cup of tea or coffee BEFORE a Sunday church service? \nBeginning Sunday\, April 26 and running for four weeks until May 17\, Peter Baker will be piloting a “CHURCH CAFÉ” from 9:30-9:55 AM\, with coffee and tea available. You might like to make plans to meet a friend for conversation at the café or meet with other church members to discuss a project you are working on together.  What better time and place to meet than 9:30AM at the Church Café! \nIf this idea takes off\, the café could become a permanent feature in the Sunday morning landscape. If you enjoy it\, be sure to let a Deacon or LSBCC Council member know. \n 
URL:https://www.lsbcc.org/event/church-cafe
END:VEVENT
BEGIN:VEVENT
DTSTART;TZID=America/Denver:20150416T173000
DTEND;TZID=America/Denver:20150416T193000
DTSTAMP:20260424T142927
CREATED:20150331T060254Z
LAST-MODIFIED:20150331T060254Z
UID:2034-1429205400-1429212600@www.lsbcc.org
SUMMARY:16th Annual Soupline Supper
DESCRIPTION:The Annual Soupline Supper to support the Homeless Service Center will be held Thursday\, April 16th from 5:30 – 7:30PM at the Coconut Grove in Santa Cruz. This event features signature soups\, gourmet bread\, and desserts from over 40 local restaurants. Public officials\, top executives\, and other community leaders serve as “Celebrity Ladlers.” Live music and brief program for the 500 attendees recognizes donors\, sponsors\, volunteers—and includes an update from HSC’s new Executive Director Jannan Thomas.\nHSC’s Board of Directors invites you to consider how\, a good bowl of soup has the power to change lives. Your contribution helps further the mission of Homeless Services Center to end homelessness in Santa Cruz County.\nLearn more at www.souplinesupper.org.
URL:https://www.lsbcc.org/event/16th-annual-soupline-supper
LOCATION:Coconut Grove\, Santa Cruz
END:VEVENT
END:VCALENDAR