BEGIN:VCALENDAR
VERSION:2.0
PRODID:-//La Selva Beach Community Church - ECPv6.13.2.1//NONSGML v1.0//EN
CALSCALE:GREGORIAN
METHOD:PUBLISH
X-WR-CALNAME:La Selva Beach Community Church
X-ORIGINAL-URL:https://www.lsbcc.org
X-WR-CALDESC:Events for La Selva Beach Community Church
REFRESH-INTERVAL;VALUE=DURATION:PT1H
X-Robots-Tag:noindex
X-PUBLISHED-TTL:PT1H
BEGIN:VTIMEZONE
TZID:America/Denver
BEGIN:DAYLIGHT
TZOFFSETFROM:-0700
TZOFFSETTO:-0600
TZNAME:MDT
DTSTART:20150308T090000
END:DAYLIGHT
BEGIN:STANDARD
TZOFFSETFROM:-0600
TZOFFSETTO:-0700
TZNAME:MST
DTSTART:20151101T080000
END:STANDARD
BEGIN:DAYLIGHT
TZOFFSETFROM:-0700
TZOFFSETTO:-0600
TZNAME:MDT
DTSTART:20160313T090000
END:DAYLIGHT
BEGIN:STANDARD
TZOFFSETFROM:-0600
TZOFFSETTO:-0700
TZNAME:MST
DTSTART:20161106T080000
END:STANDARD
END:VTIMEZONE
BEGIN:VEVENT
DTSTART;TZID=America/Denver:20160508T100000
DTEND;TZID=America/Denver:20160508T110000
DTSTAMP:20260424T110025
CREATED:20150501T224415Z
LAST-MODIFIED:20160212T055035Z
UID:2040-1462701600-1462705200@www.lsbcc.org
SUMMARY:Festival of Christian Living
DESCRIPTION:  \n 
URL:https://www.lsbcc.org/event/festival-of-christian-living
END:VEVENT
BEGIN:VEVENT
DTSTART;VALUE=DATE:20160430
DTEND;VALUE=DATE:20160501
DTSTAMP:20260424T110025
CREATED:20160312T230108Z
LAST-MODIFIED:20160316T005623Z
UID:2811-1461974400-1462060799@www.lsbcc.org
SUMMARY:Women's Retreat
DESCRIPTION:Women’s Retreat: Still in the planning stages but with the theme of ART and includes a visit to Carmel Galleries\, and lunch in Jill Corrigan’s home.  This event will be lead by resident artist\, Ingrid Glazebrook. Additional details to follow.
URL:https://www.lsbcc.org/event/womens-retreat-2
END:VEVENT
BEGIN:VEVENT
DTSTART;TZID=America/Denver:20160428T193000
DTEND;TZID=America/Denver:20160428T210000
DTSTAMP:20260424T110025
CREATED:20160408T021659Z
LAST-MODIFIED:20160408T023518Z
UID:2823-1461871800-1461877200@www.lsbcc.org
SUMMARY:Ellen Pirie's Armchair Travel Adventure in Ethiopia
DESCRIPTION:Friends and family are invited to join us to hear Ellen Pirie’s Armchair Travel Adventures where she will share her Peace Corps experience in Ethiopia. Ellen\, a former Santa Cruz County Supervisor and longtime member of La Selva Beach Community Church and her husband Terry spent 2 years in Ethiopia for the Peace Corps and traveled extensively throughout Europe after their Peace Corps assignment ended. This promises to be an inspirational and informative evening. \n 
URL:https://www.lsbcc.org/event/ellen-piries-armchair-travel-adventure-in-ethiopia
END:VEVENT
BEGIN:VEVENT
DTSTART;TZID=America/Denver:20160424T230000
DTEND;TZID=America/Denver:20160424T230000
DTSTAMP:20260424T110025
CREATED:20160312T225704Z
LAST-MODIFIED:20160312T225704Z
UID:2810-1461538800-1461538800@www.lsbcc.org
SUMMARY:UCC Beach Day
DESCRIPTION:Worship/Sunday School; That afternoon head to the beach to join members of Peace UCC and Skyland UCC for music\, play and food! Details regarding time will follow shortly.
URL:https://www.lsbcc.org/event/ucc-beach-day
END:VEVENT
BEGIN:VEVENT
DTSTART;TZID=America/Denver:20160412T190000
DTEND;TZID=America/Denver:20160412T200000
DTSTAMP:20260424T110025
CREATED:20160312T225318Z
LAST-MODIFIED:20160312T225318Z
UID:2809-1460487600-1460491200@www.lsbcc.org
SUMMARY:Deacon's Meeting
DESCRIPTION:
URL:https://www.lsbcc.org/event/deacons-meeting-3
END:VEVENT
BEGIN:VEVENT
DTSTART;TZID=America/Denver:20160410T133000
DTEND;TZID=America/Denver:20160410T143000
DTSTAMP:20260424T110025
CREATED:20160312T224928Z
LAST-MODIFIED:20160312T225126Z
UID:2807-1460295000-1460298600@www.lsbcc.org
SUMMARY:Sunday School Team Meeting
DESCRIPTION:
URL:https://www.lsbcc.org/event/sunday-school-team-meeting-at-130pm
END:VEVENT
BEGIN:VEVENT
DTSTART;TZID=America/Denver:20160329T193000
DTEND;TZID=America/Denver:20160329T210000
DTSTAMP:20260424T110025
CREATED:20160312T223537Z
LAST-MODIFIED:20160312T223925Z
UID:2798-1459279800-1459285200@www.lsbcc.org
SUMMARY:Living Well\, Dying Well
DESCRIPTION:For more information and schedule\, see March 22\, 2016
URL:https://www.lsbcc.org/event/living-well-dying-well
END:VEVENT
BEGIN:VEVENT
DTSTART;TZID=America/Denver:20160327T100000
DTEND;TZID=America/Denver:20160327T110000
DTSTAMP:20260424T110025
CREATED:20160312T224746Z
LAST-MODIFIED:20160312T224746Z
UID:2806-1459072800-1459076400@www.lsbcc.org
SUMMARY:Easter Celebration in the Sanctuary
DESCRIPTION:Easter Celebration in the Sanctuary! We’ll raise our voices with “Christ the Lord Is Risen Today\,” hear special music by the Sunday School\, sing a new “Resurrection Day” song written by David\, and ponder the Easter story and its implications for our lives. After worship\, a coffeehour and an Easter Egg Hunt for elementary age children and younger
URL:https://www.lsbcc.org/event/easter-celebration-in-the-sanctuary
END:VEVENT
BEGIN:VEVENT
DTSTART;TZID=America/Denver:20160322T193000
DTEND;TZID=America/Denver:20160322T210000
DTSTAMP:20260424T110025
CREATED:20160312T224141Z
LAST-MODIFIED:20160319T185142Z
UID:2803-1458675000-1458680400@www.lsbcc.org
SUMMARY:Living Well\, Dying Well.
DESCRIPTION:We begin a three part series facilitated by Hospice of Santa Cruz\, entitled\, “Living Well\, Dying Well.” This first evening will be a showing of the movie “Being Mortal” by Atul Gawande\, followed by a short discussion. Dr. Gawande raises important issues around medical care for the dying and the discomfort the medical profession often has discussing chronic illness and death with their patients. An important film for those caring for the aging and those who want to be able to make informed choices. This series is free and we encourage you to invite community members who might be interested in this topic.
URL:https://www.lsbcc.org/event/2803
END:VEVENT
BEGIN:VEVENT
DTSTART;TZID=America/Denver:20160320T095000
DTEND;TZID=America/Denver:20160320T110000
DTSTAMP:20260424T110025
CREATED:20130211T130509Z
LAST-MODIFIED:20160312T222657Z
UID:1681-1458467400-1458471600@www.lsbcc.org
SUMMARY:Palm/Passion Sunday
DESCRIPTION:Join us as we gather in the courtyard at 9:50 for worship instructions and a palm processional into the sanctuary.  Our worship begins with a celebration of Jesus’ joyous entry into Jerusalem\, and ends on a sober note as the story of Jesus’ passion is told through music and narrative.   Communion will be celebrated\, with a special opportunity for students completing class to gather around the Table with their parents. A mid-eastern style coffeehouse will follow.
URL:https://www.lsbcc.org/event/palm-passion-sunday
LOCATION:La Selva Beach Community Church\, 26 Florido Avenue\, La Selva Beach\, 95076\, United States
END:VEVENT
BEGIN:VEVENT
DTSTART;VALUE=DATE:20160317
DTEND;VALUE=DATE:20160318
DTSTAMP:20260424T110025
CREATED:20160312T223035Z
LAST-MODIFIED:20160312T223035Z
UID:2797-1458172800-1458259199@www.lsbcc.org
SUMMARY:Happy St. Patrick's Day
DESCRIPTION:
URL:https://www.lsbcc.org/event/happy-st-patricks-day
END:VEVENT
BEGIN:VEVENT
DTSTART;TZID=America/Denver:20160313T111500
DTEND;TZID=America/Denver:20160313T121500
DTSTAMP:20260424T110025
CREATED:20160116T081227Z
LAST-MODIFIED:20160116T172422Z
UID:2768-1457867700-1457871300@www.lsbcc.org
SUMMARY:First Light: Jesus and the Kingdom of God\, A Lenten Video Discussion Series
DESCRIPTION:All are welcome to join A Video Discussion Series during Lent 2016\, this is final week of this discussion series; after the worship service from 11:15 – 12:15 in the sanctuary. Pastor Jane Grady and Tom Bastasch will facilitate. \nMarch 13  \nWeek 5: Resurrection as Resistance What are two central meanings of Easter in the New Testament?
URL:https://www.lsbcc.org/event/first-light-jesus-and-the-kingdom-of-god-a-lenten-video-discussion-series-4
END:VEVENT
BEGIN:VEVENT
DTSTART;TZID=America/Denver:20160306T111500
DTEND;TZID=America/Denver:20160306T121500
DTSTAMP:20260424T110025
CREATED:20160116T081042Z
LAST-MODIFIED:20160116T172603Z
UID:2767-1457262900-1457266500@www.lsbcc.org
SUMMARY:First Light: Jesus and the Kingdom of God\, A Lenten Video Discussion Series
DESCRIPTION:All are welcome to join A Video Discussion Series during Lent 2016. Pastor Jane Grady and Tom Bastasch will facilitate; from 11:15 – 12:15 in the sanctuary. \nMarch 6  \nWeek 4: Substitutionary Atonement? How is the death of Jesus a metaphor for the path of spiritual transformation? \n 
URL:https://www.lsbcc.org/event/2767
END:VEVENT
BEGIN:VEVENT
DTSTART;TZID=America/Denver:20160228T111500
DTEND;TZID=America/Denver:20160228T121500
DTSTAMP:20260424T110025
CREATED:20160116T080904Z
LAST-MODIFIED:20160116T172852Z
UID:2766-1456658100-1456661700@www.lsbcc.org
SUMMARY:First Light: Jesus and the Kingdom of God\,  A Lenten Video Discussion Series
DESCRIPTION:All are welcome to join A Video Discussion Series during Lent 2016 after the worship service from 11:15 – 12:15 in the sanctuary. Pastor Jane Grady and Tom Bastasch will facilitate. \nFebruary 28          \nWeek 3: Jesus as Lord  Why were the titles of Caesar Augustus – “Divine”\, “Son of God”\, “God from God”\, “Lord”\, Redeemer”\, “Liberator”\,  and “Savior of the World” taken from a Roman emperor on the Palestine hill and given to a Jewish peasant on the Palestine plain?  \n 
URL:https://www.lsbcc.org/event/first-light-jesus-and-the-kingdom-of-god-a-lenten-video-discussion-series-3
END:VEVENT
BEGIN:VEVENT
DTSTART;TZID=America/Denver:20160221T111500
DTEND;TZID=America/Denver:20160221T121500
DTSTAMP:20260424T110025
CREATED:20160116T080708Z
LAST-MODIFIED:20160116T173006Z
UID:2765-1456053300-1456056900@www.lsbcc.org
SUMMARY:First Light: Jesus and the Kingdom of God\, A Lenten Video Discussion Series
DESCRIPTION:All are welcome to join A Video Discussion Series during Lent 2016 after the worship service from 11:15 – 12:15 in the sanctuary. Pastor Jane Grady and Tom Bastasch will facilitate. \nFebruary 21          \nWeek 2: The Lake as the World How is Jesus’ message both profoundly personal and profoundly political? \n  \n  \n 
URL:https://www.lsbcc.org/event/first-light-jesus-and-the-kingdom-of-god-a-lenten-video-discussion-series-2
END:VEVENT
BEGIN:VEVENT
DTSTART;TZID=America/Denver:20160214T111500
DTEND;TZID=America/Denver:20160214T121500
DTSTAMP:20260424T110025
CREATED:20160116T080324Z
LAST-MODIFIED:20160116T173208Z
UID:2764-1455448500-1455452100@www.lsbcc.org
SUMMARY:First Light: Jesus and the Kingdom of God\, A Lenten Video Discussion Series
DESCRIPTION:All are welcome to join A Video Discussion Series during Lent 2016 will begin on Sunday\, February 14\, and continue  for 5 weeks\, ending on March 13\, 2016; after the worship service from 11:15 – 12:15 in the sanctuary. Pastor Jane Grady and Tom Bastasch will facilitate. \nFebruary 14          \nWeek 1: The Matrix of Jesus How we think of Jesus matters. What was the Jewish homeland like in his day and how did the Roman Empire affect his life? \n 
URL:https://www.lsbcc.org/event/first-light-jesus-and-the-kingdom-of-god-a-lenten-video-discussion-series
LOCATION:La Selva Beach Community Church\, 26 Florido Avenue \, La Selva Beach\, CA\, 95076\, United States
END:VEVENT
BEGIN:VEVENT
DTSTART;TZID=America/Denver:20160207T100000
DTEND;TZID=America/Denver:20160207T110000
DTSTAMP:20260424T110025
CREATED:20130211T122128Z
LAST-MODIFIED:20151222T050538Z
UID:1666-1454839200-1454842800@www.lsbcc.org
SUMMARY:Kate Kendell
DESCRIPTION:We Welcome\, Kate Kendell \nOn Sunday February 7\, La Selva Beach Community Church will celebrate ten years as an Open & Affirming congregation. What better way to celebrate the decision to issue an explicit welcome to all individuals\, than by hosting Kate Kendell?\nIf you haven’t had a chance to hear Kate\, this is an opportunity you won’t want to miss. As Executive Director for the National Center for Lesbian Rights\, Kate Kendell has worked tirelessly as an advocate for civil rights. So much so that in 2010\, she was named a “woman who could be president” by the League of Women Voters of San Francisco. \nIn addition to hearing from Kate\, we will honor youth leaders who have stood up for equality and justice in their school communities. Please join us to thank Kate for her dedication to working for the civil rights for everyone.
URL:https://www.lsbcc.org/event/1666
END:VEVENT
BEGIN:VEVENT
DTSTART;TZID=America/Denver:20160206T090000
DTEND;TZID=America/Denver:20160206T130000
DTSTAMP:20260424T110025
CREATED:20160106T195031Z
LAST-MODIFIED:20160106T200656Z
UID:2738-1454749200-1454763600@www.lsbcc.org
SUMMARY:Climate Change: The Moral Dimension
DESCRIPTION:You are invited to a weekend event sponsored by the Progressive Christian Forum at Peace United Church of Christ on Friday\, February 5th\, 6:30pm – 8:30pm; Saturday\, February 6th\, 9:00am – 1pm. This event is free\, donations are welcomed. \nClimate Change:  The Moral Dimension will address climate change within a moral/ethical framework by drawing on the arts\, philosophy\, psychology\, and religion. \nSaturday\, the keynote address will be given by Kathleen Moore\, a prominent moral philosopher. Respondents will include Islamic\, Jewish\, Christian and Jungian perspectives. Local environmental groups will also be in attendance.
URL:https://www.lsbcc.org/event/2738
LOCATION:Peace United Church of Christ (First Congregational Church of SC)\, 900 High Street\, Santa Cruz\, CA\, United States
END:VEVENT
BEGIN:VEVENT
DTSTART;TZID=America/Denver:20160205T183000
DTEND;TZID=America/Denver:20160205T203000
DTSTAMP:20260424T110025
CREATED:20160106T190729Z
LAST-MODIFIED:20160106T200844Z
UID:2736-1454697000-1454704200@www.lsbcc.org
SUMMARY:Climate Change: The Moral Dimension
DESCRIPTION:You are invited to a weekend event sponsored by the Progressive Christian Forum at Peace United Church of Christ on Friday\, February 5th\, 6:30pm – 8:30pm; Saturday\, February 6th\, 9:00am – 1pm. This event is free\, donations are welcomed. \nClimate Change:  The Moral Dimension will address climate change within a moral/ethical framework by drawing on the arts\, philosophy\, psychology\, and religion. \nFriday evening introductory remarks will be by Kathleen D. Moore\, a prominent moral philosopher. Ellen Bass\, Santa Cruz Poet Laureate will speak and music will be provided by The Strathdees\, an inspirational folk music group. Wine and cheese reception. Environmental art and photography will be displayed for participants to view. \n 
URL:https://www.lsbcc.org/event/climate-change-the-moral-dimension
LOCATION:Peace United Church of Christ (First Congregational Church of SC)\, 900 High Street\, Santa Cruz\, CA\, United States
END:VEVENT
BEGIN:VEVENT
DTSTART;TZID=America/Denver:20160131T111500
DTEND;TZID=America/Denver:20160131T121500
DTSTAMP:20260424T110025
CREATED:20151027T031314Z
LAST-MODIFIED:20160109T015716Z
UID:2204-1454238900-1454242500@www.lsbcc.org
SUMMARY:Living the Questions: A Video Discussion Series
DESCRIPTION:All are welcome to join in the final discussion in our Living the Questions Series.     Pastor Jane Grady and Tom Bastasch will facilitate this series of discussions. \n  \nJanuary 31\, Week 7: Embracing Mystery                                                                      How would acknowledging that “we dwell in mystery” affect one’s day-to-day outlook on the world?
URL:https://www.lsbcc.org/event/living-the-questions-a-video-discussion-series-8
END:VEVENT
BEGIN:VEVENT
DTSTART;TZID=America/Denver:20160131T100000
DTEND;TZID=America/Denver:20160131T110000
DTSTAMP:20260424T110025
CREATED:20150125T210001Z
LAST-MODIFIED:20151222T045952Z
UID:1946-1454234400-1454238000@www.lsbcc.org
SUMMARY:The Oceanaires
DESCRIPTION:On Sunday\, January 31 at our 10:00am worship service\, we welcome the talented high school chorus from Monterey Bay Academy. This outstanding group of students and their director always bring spirit and inspiration to our worship\, as they share traditional and contemporary spiritual music from a variety of traditions around the world.  We hope you will join us for this very lively and inspirational concert!  Be sure to invite your family\, friends and neighbors to join us for an uplifting hour.
URL:https://www.lsbcc.org/event/the-oceanaires
LOCATION:La Selva Beach Community Church\, 26 Florido Avenue\, La Selva Beach\, 95076\, United States
END:VEVENT
BEGIN:VEVENT
DTSTART;TZID=America/Denver:20160124T111500
DTEND;TZID=America/Denver:20160124T121500
DTSTAMP:20260424T110025
CREATED:20151027T031044Z
LAST-MODIFIED:20160109T015345Z
UID:2203-1453634100-1453637700@www.lsbcc.org
SUMMARY:Living the Questions: A Video Discussion Series
DESCRIPTION:All are welcome to join in the Living the Questions Series. Each week’s video will center around a given theme and be followed by a group discussion. Pastor Jane Grady and Tom Bastasch will facilitate this series of discussions. \nJanuary 24\, Week 6: Creative Transformation                                                             How does the following ring true for you: “the spirituality many are seeking is not to the left or to the right\, but deeper”? \nJanuary 31\, Week 7: Embracing Mystery                                                                      How would acknowledging that “we dwell in mystery” affect one’s day-to-day outlook on the world?
URL:https://www.lsbcc.org/event/living-the-questions-a-video-discussion-series-7
END:VEVENT
BEGIN:VEVENT
DTSTART;TZID=America/Denver:20160123T100000
DTEND;TZID=America/Denver:20160123T153000
DTSTAMP:20260424T110025
CREATED:20160106T185600Z
LAST-MODIFIED:20160106T185746Z
UID:2735-1453543200-1453563000@www.lsbcc.org
SUMMARY:Patty Smith: Reiki
DESCRIPTION:An Invitation to Explore Christian Healing Prayer and Komyo Reiki Kai with Patty Smith on Friday\, January 22\, from 7 – 9:00pm and Saturday\, January 23\, 10 – 3:30     Contact her at 206.890.0031. \nReiki is a Japanese word meaning ‘universal life energy.’ Reiki is a healing technique based on the principle that the therapist can share healing energies with the patient by means of touch\, to activate and restore natural balance for physical\, spiritual and emotional well-being.
URL:https://www.lsbcc.org/event/patty-smith-reiki-3
END:VEVENT
BEGIN:VEVENT
DTSTART;TZID=America/Denver:20160122T190000
DTEND;TZID=America/Denver:20160122T210000
DTSTAMP:20260424T110025
CREATED:20160106T185359Z
LAST-MODIFIED:20160106T185922Z
UID:2734-1453489200-1453496400@www.lsbcc.org
SUMMARY:Patty Smith: Reiki
DESCRIPTION:An Invitation to Explore Christian Healing Prayer and Komyo Reiki Kai with Patty Smith on Friday\, January 22\, from 7 – 9:00pm and Saturday\, January 23\, 10 – 3:30     Contact her at 206.890.0031. \nReiki is a Japanese word meaning ‘universal life energy.’ Reiki is a healing technique based on the principle that the therapist can share healing energies with the patient by means of touch\, to activate and restore natural balance for physical\, spiritual and emotional well-being.
URL:https://www.lsbcc.org/event/patty-smith-reiki-2
END:VEVENT
BEGIN:VEVENT
DTSTART;TZID=America/Denver:20160117T111500
DTEND;TZID=America/Denver:20160117T121500
DTSTAMP:20260424T110025
CREATED:20151027T030723Z
LAST-MODIFIED:20160109T015134Z
UID:2201-1453029300-1453032900@www.lsbcc.org
SUMMARY:Living the Questions: A Video Discussion Series
DESCRIPTION:All are welcome to join in the Living the Questions Series. Each week’s video will center around a given theme and be followed by a group discussion. Pastor Jane Grady and Tom Bastasch will facilitate this series of discussions. \nJanuary 17\, Week 5: Compassion: The Heart of Jesus’ Ministry                      What is the central message of Jesus’ teaching in life? \nJanuary 24\, Week 6: Creative Transformation                                                             How does the following ring true for you: “the spirituality many are seeking is not to the left or to the right\, but deeper”? \nJanuary 31\, Week 7: Embracing Mystery                                                                      How would acknowledging that “we dwell in mystery” affect one’s day-to-day outlook on the world?
URL:https://www.lsbcc.org/event/living-the-questions-a-video-discussion-series-5
END:VEVENT
BEGIN:VEVENT
DTSTART;TZID=America/Denver:20160113T123000
DTEND;TZID=America/Denver:20160113T133000
DTSTAMP:20260424T110025
CREATED:20160110T045113Z
LAST-MODIFIED:20160312T230251Z
UID:2749-1452688200-1452691800@www.lsbcc.org
SUMMARY:Yoga  with Kelly
DESCRIPTION:You are invited to join us for Yoga with Kelly every Wednesday from 12:30 -1:30 in the church sanctuary. Kelly will lead us in Hatha yoga; this class is designed for all levels including beginners–front pew sitting yoga. Participants are asked to bring a mat or towel for their personal comfort.\nPlease enter quietly through the Agape room\, so as not to disturb preschool rest time.\nNo fee is charged for this class\, however donations will be gratefully accepted and given to an organization to support the homeless.\nQuestions? Contact Kelly Kean
URL:https://www.lsbcc.org/event/yoga-with-kelly
END:VEVENT
BEGIN:VEVENT
DTSTART;VALUE=DATE:20151225
DTEND;VALUE=DATE:20151226
DTSTAMP:20260424T110025
CREATED:20151222T045604Z
LAST-MODIFIED:20151222T045604Z
UID:2625-1451001600-1451087999@www.lsbcc.org
SUMMARY:Merry Christmas
DESCRIPTION:We wish you and your family a Merry Christmas!
URL:https://www.lsbcc.org/event/merry-christmas
END:VEVENT
BEGIN:VEVENT
DTSTART;TZID=America/Denver:20151206T111500
DTEND;TZID=America/Denver:20151206T121500
DTSTAMP:20260424T110025
CREATED:20151027T030526Z
LAST-MODIFIED:20151029T151841Z
UID:2200-1449400500-1449404100@www.lsbcc.org
SUMMARY:Living the Questions: A Video Discussion Series
DESCRIPTION:All are welcome to join in the Living the Questions Series. Each week’s video will center around a given theme and be followed by a group discussion. Pastor Jane Grady and Tom Bastasch will facilitate this series of discussions. \nDecember 6\, Week 4: Prayer: Intimacy with God                                                        If prayer isn’t a direct and effective way of influencing the Divine for our own benefit\, what good is it? \nDecember 13\, Week 5: Compassion: The Heart of Jesus’ Ministry                      What is the central message of Jesus’ teaching in life? \nJanuary 10\, Week 6: Creative Transformation                                                             How does the following ring true for you: “the spirituality many are seeking is not to the left or to the right\, but deeper”? \nJanuary 24\, Week 7: Embracing Mystery                                                                      How would acknowledging that “we dwell in mystery” affect one’s day-to-day outlook on the world?
URL:https://www.lsbcc.org/event/living-the-questions-a-video-discussion-series-4
END:VEVENT
BEGIN:VEVENT
DTSTART;TZID=America/Denver:20151118T190000
DTEND;TZID=America/Denver:20151118T200000
DTSTAMP:20260424T110025
CREATED:20150212T073722Z
LAST-MODIFIED:20160319T211800Z
UID:1973-1447873200-1447876800@www.lsbcc.org
SUMMARY:Choir Practice (Weekly)
DESCRIPTION:You are invited to join our choir for weekly performances during the academic year (the choir is on hiatus during Summer break) or you may want to join for special performances at Christmas and/or Easter. Choir practice is every Wednesday from 7-8:00pm in the church sanctuary.
URL:https://www.lsbcc.org/event/choir-practice-4
END:VEVENT
BEGIN:VEVENT
DTSTART;TZID=America/Denver:20151117T193000
DTEND;TZID=America/Denver:20151117T203000
DTSTAMP:20260424T110025
CREATED:20151115T014228Z
LAST-MODIFIED:20151116T233107Z
UID:2598-1447788600-1447792200@www.lsbcc.org
SUMMARY:Circles of Christian Living
DESCRIPTION:The Circle is a place in the church community where interested people get together to explore a range of issues related to following a Christian path. It is not a group therapy session or an extended discussion of personal problems. Nor is it primarily a social occasion\, we do not serve food or drink. We explore Christian spirituality\, its application to our personal lives and to our engagement with the wider world we inhabit. It is a small\, supportive group; a safe environment for “spiritual conversation”. We hope to provide a source of support for individuals in their personal struggles with matters of faith and practice. Our meetings are led by members of the group on a rotating basis\, with the facilitator providing a brief reading\, reflection\, or question to focus the discussion for the evening. Please contact Sue Lawson or Bob Strayer for meeting dates\, time and location. Newcomers are welcome.
URL:https://www.lsbcc.org/event/circles-of-christian-living-2
END:VEVENT
END:VCALENDAR