BEGIN:VCALENDAR
VERSION:2.0
PRODID:-//La Selva Beach Community Church - ECPv6.13.2.1//NONSGML v1.0//EN
CALSCALE:GREGORIAN
METHOD:PUBLISH
X-WR-CALNAME:La Selva Beach Community Church
X-ORIGINAL-URL:https://www.lsbcc.org
X-WR-CALDESC:Events for La Selva Beach Community Church
REFRESH-INTERVAL;VALUE=DURATION:PT1H
X-Robots-Tag:noindex
X-PUBLISHED-TTL:PT1H
BEGIN:VTIMEZONE
TZID:America/Denver
BEGIN:DAYLIGHT
TZOFFSETFROM:-0700
TZOFFSETTO:-0600
TZNAME:MDT
DTSTART:20160313T090000
END:DAYLIGHT
BEGIN:STANDARD
TZOFFSETFROM:-0600
TZOFFSETTO:-0700
TZNAME:MST
DTSTART:20161106T080000
END:STANDARD
BEGIN:DAYLIGHT
TZOFFSETFROM:-0700
TZOFFSETTO:-0600
TZNAME:MDT
DTSTART:20170312T090000
END:DAYLIGHT
BEGIN:STANDARD
TZOFFSETFROM:-0600
TZOFFSETTO:-0700
TZNAME:MST
DTSTART:20171105T080000
END:STANDARD
END:VTIMEZONE
BEGIN:VEVENT
DTSTART;TZID=America/Denver:20170115T110000
DTEND;TZID=America/Denver:20170115T120000
DTSTAMP:20260424T082115
CREATED:20170111T021404Z
LAST-MODIFIED:20170111T021404Z
UID:2952-1484478000-1484481600@www.lsbcc.org
SUMMARY:How To Read the Bible - A Discussion Series
DESCRIPTION:For those of you who have ever wondered about certain Bible stories\, perhaps how in the world they ever could have happened\, or what their meaning is\, or even how to read\, study or understand the Bible\, please join us for a book study of How to Read the Bible by Harvard Divinity professor Harvey Cox. We’ll begin after worship on Sunday’s after the worship service. We’ll be reading the chapters in the book and the accompanying scripture passages that Cox addresses. Hope you’ll join Tom Bastasch and Jane in this interesting study. Mark your calendars: \nJanuary 15: Chapter 5 – Listening to the Voices of the Voiceless: Amos and the Prophets5 \nJanuary 22: Chapter 6 – Getting to the Final Four: Gospels\, Kept and Discarded \nJanuary 29: Chapter 7 – Looking Over the Shoulders of the Writers: Matthew\, Mark\, and Luke \nFebruary Study Dates to be announced…
URL:https://www.lsbcc.org/event/how-to-read-the-bible-a-discussion-series
END:VEVENT
BEGIN:VEVENT
DTSTART;VALUE=DATE:20161127
DTEND;VALUE=DATE:20161128
DTSTAMP:20260424T082115
CREATED:20141116T224939Z
LAST-MODIFIED:20161027T185819Z
UID:1932-1480204800-1480291199@www.lsbcc.org
SUMMARY:First Sunday of Advent
DESCRIPTION:
URL:https://www.lsbcc.org/event/first-sunday-of-advent-2
CATEGORIES:Fall
END:VEVENT
BEGIN:VEVENT
DTSTART;TZID=America/Denver:20161111T183000
DTEND;TZID=America/Denver:20161111T213000
DTSTAMP:20260424T082115
CREATED:20160913T230540Z
LAST-MODIFIED:20161018T174728Z
UID:2935-1478889000-1478899800@www.lsbcc.org
SUMMARY:All Church Dinner
DESCRIPTION:Please join us for our annual All Church Dinner\, Friday\, November 11. Marilyn Schultz and Jay Hicks have graciously offered to be our hosts from 6:30-9:30.  Our dinner entree will be provided; please choose an appetizer\, salad\, dessert or beverage to contribute to this festive event. Join us for an evening of stimulating conversation\, a nice meal and an inspirational speaker.\n          Please RSVP by November 8 by calling 831.688.4033 \nThis year’s speaker will be Reverend Daniel Ross-Jones\, Associate Conference Minister of the Northern California Nevada Conference of the UCC.
URL:https://www.lsbcc.org/event/all-church-dinner
END:VEVENT
BEGIN:VEVENT
DTSTART;TZID=America/Denver:20161027T110000
DTEND;TZID=America/Denver:20161027T120000
DTSTAMP:20260424T082115
CREATED:20161027T191314Z
LAST-MODIFIED:20161027T191314Z
UID:2943-1477566000-1477569600@www.lsbcc.org
SUMMARY:Book Study: How To Read the Bible
DESCRIPTION:Have you ever wondered about certain Bible stories\, perhaps how in the world they ever could have happened\, or what their meaning is\, or even how to read\, study or understand the Bible?  If so\, please us for a book study of  How to Read the Bible by Harvard Divinity professor Harvey Cox. We’ll be reading the chapters in the book and the accompanying scripture passages that Cox addresses. We will begin after worship on Sunday. Hope you’ll join Tom Bastasch and Jane in this interesting study.\nMeeting dates: October 30th\, November 6th\, 13th\, December 4th\, 11th\,  and to continue in January 2017
URL:https://www.lsbcc.org/event/book-study-how-to-read-the-bible
END:VEVENT
BEGIN:VEVENT
DTSTART;TZID=America/Denver:20161027T080000
DTEND;TZID=America/Denver:20161027T170000
DTSTAMP:20260424T082115
CREATED:20161027T184939Z
LAST-MODIFIED:20161027T185031Z
UID:2940-1477555200-1477587600@www.lsbcc.org
SUMMARY:Book Signing & Launch Party
DESCRIPTION:All are invited to join us on Thursday\, October 27th\, 7:00pm as we celebrate Jazbo Rhodes\, aka Jim Rhodes\, local La Selva Beach author and the launch of his book\, Post Office Confidential.  Jim’s new book is a funny\, satirical and eye-opening look at an American Institution\, from which he is now retired. Enjoy a reading and refreshments\, and take much needed break from presidential election campaigning and news!
URL:https://www.lsbcc.org/event/book-signing-launch-party
END:VEVENT
BEGIN:VEVENT
DTSTART;TZID=America/Denver:20161018T193000
DTEND;TZID=America/Denver:20161018T203000
DTSTAMP:20260424T082115
CREATED:20160913T223306Z
LAST-MODIFIED:20160913T233220Z
UID:2894-1476819000-1476822600@www.lsbcc.org
SUMMARY:Circles of Christian Living
DESCRIPTION:Subject: TBA\nTuesday\, October 18\, 2016 at 7:30PM \nSometimes we feel awkward sharing our faith\, or talking about who God is to us and yet\, it can be a very enriching experience to discuss these matters of heart and spirit with others.  Being part of such a sharing experience can also deepen the relationships among us\, and help us see more fully the inner beauty of one another.  If you would like to be part of such a group exploring matters of faith and practice\, consider becoming involved in the group\, Circles of Christian Living.  It is not a group therapy session or an extended discussion of personal problems. Nor is it primarily a social occasion\, we do not serve food or drink. We explore Christian spirituality\, its application to our personal lives and to our engagement with the wider world we inhabit. It is a small\, supportive group; a safe environment for “spiritual conversation”. We hope to provide a source of support for individuals in their personal struggles with matters of faith and practice. Our meetings are led by members of the group on a rotating basis\, with the facilitator providing a brief reading\, reflection\, or question to focus the discussion for the evening. This group meets regularly on the 3rd Tuesday of the month in Sue Lawson’s home. \nPlease contact Sue Lawson or Bob Strayer for more information.
URL:https://www.lsbcc.org/event/2894
LOCATION:Sue Lawson’s home
END:VEVENT
BEGIN:VEVENT
DTSTART;TZID=America/Denver:20161016T110000
DTEND;TZID=America/Denver:20161016T120000
DTSTAMP:20260424T082115
CREATED:20160911T195620Z
LAST-MODIFIED:20160911T195620Z
UID:2890-1476615600-1476619200@www.lsbcc.org
SUMMARY:Field Day
DESCRIPTION:Sunday\, October 16\, 2016\, 11:00am – \nJoin in the fun on our second annual Field Day! Kids\, invite your parents. Moms & Dads\, invite YOUR friends! Come to play\, watch and/or help. All are welcome to join in the FUN!
URL:https://www.lsbcc.org/event/field-day
LOCATION:La Selva Beach Library Lawn\, 26 Florido Avenue\, La Selva Beach
END:VEVENT
BEGIN:VEVENT
DTSTART;TZID=America/Denver:20161009T100000
DTEND;TZID=America/Denver:20161009T110000
DTSTAMP:20260424T082115
CREATED:20150925T145942Z
LAST-MODIFIED:20160911T194929Z
UID:1573-1476007200-1476010800@www.lsbcc.org
SUMMARY:Blessing of the Animals
DESCRIPTION:Blessing of the Animals\nSunday\, October 9th\, 10:00 am \nCelebrating All  Creatures Great & Small on the Library Lawn. Rev Deborah Streeter\, our Pastor of Blue Theology will lead this service dedicated to all of the no-footed\, two\, four and many-footed creatures; all those with fur\, hair\, feathers and scales that enrich our lives. \nYou are welcome to bring a photo for the table in memory of animals that have changed your life. \n● Dress comfortably\n● Bring your pet on a leash (or in a box or carrier)                                                                ● All footed\, no footed\, 2\, 4 and more-footed critters are warmly invited                                                   \nYou are also invited to bring contributions of collars\, leashes\, dog toys\, dog and cat food\, clean towels and blankets for area animal shelters. \n 
URL:https://www.lsbcc.org/event/blessing-of-the-animals
LOCATION:La Selva Beach Library Lawn\, 26 Florido Avenue\, La Selva Beach
END:VEVENT
BEGIN:VEVENT
DTSTART;TZID=America/Denver:20160914T190000
DTEND;TZID=America/Denver:20160914T200000
DTSTAMP:20260424T082115
CREATED:20160913T225910Z
LAST-MODIFIED:20160913T225910Z
UID:2896-1473879600-1473883200@www.lsbcc.org
SUMMARY:Choir Practice
DESCRIPTION:Sing! Sing A Song!\nWhether you are an accomplished singer\, or you love making a joyful noise singing in your car or the shower\, you are welcome to join our choir for weekly performances during the academic year (the choir is on hiatus during Summer break) or you may want to join for special performances at Christmas and/or Easter. Choir practice is every Wednesday from 7-8:00pm in the church sanctuary under the direction of our pianist\, David Larstein.
URL:https://www.lsbcc.org/event/choir-practice-5
LOCATION:La Selva Beach Community Church\, 26 Florido Avenue \, La Selva Beach\, CA\, 95076\, United States
END:VEVENT
BEGIN:VEVENT
DTSTART;TZID=America/Denver:20160913T193000
DTEND;TZID=America/Denver:20160913T203000
DTSTAMP:20260424T082115
CREATED:20160913T222438Z
LAST-MODIFIED:20160913T233042Z
UID:2891-1473795000-1473798600@www.lsbcc.org
SUMMARY:Circles of Christian Living
DESCRIPTION:Subject: Prayer\, facilitated by Pete Ogilvie\nTuesday\, September 13\, 2016 at 7:30PM \nMany of our prior Circle of Christian Living evenings have  featured selections from the Gospel\, other biblical passages\, and  poems referencing our topic or theme for discussion. But the real joy and value of these sessions seems to me to have often come when we  shared from our own lives and experiences. At Tuesday evening’s session\, let’s open up discussion to sharing whatever each of us would like to bring forth about our personal  experience of prayer. \nThe Circle is a place in the church community where interested people get together to explore a range of issues related to following a Christian path. It is not a group therapy session or an extended discussion of personal problems. Nor is it primarily a social occasion\, we do not serve food or drink. We explore Christian spirituality\, its application to our personal lives and to our engagement with the wider world we inhabit. It is a small\, supportive group; a safe environment for “spiritual conversation”. We hope to provide a source of support for individuals in their personal struggles with matters of faith and practice. Our meetings are led by members of the group on a rotating basis\, with the facilitator providing a brief reading\, reflection\, or question to focus the discussion for the evening. This group meets regularly on the 3rd Tuesday of the month in Sue Lawson’s home\, however the September meeting will take place on the 2nd Tuesday in September. \nPlease contact Sue Lawson or Bob Strayer for more information.
URL:https://www.lsbcc.org/event/circles-of-christian-living-3
LOCATION:Sue Lawson’s home
END:VEVENT
BEGIN:VEVENT
DTSTART;TZID=America/Denver:20160821T111500
DTEND;TZID=America/Denver:20160821T151500
DTSTAMP:20260424T082115
CREATED:20160805T204654Z
LAST-MODIFIED:20160806T035208Z
UID:2884-1471778100-1471792500@www.lsbcc.org
SUMMARY:Swim Sunday
DESCRIPTION:SWIM SUNDAY at the LOS BARRANCOS POOL\nSunday\, August 21\, 2016\nSingles\, couples\, families\, and friends…\nJoin the fun at the Los Barrancos pool\,\n“Warmest water in the West\,” and a baby pool\, too! \nBring sandwiches and drinks (in plastic containers for your family)\,\nAND STAY AWHILE:  the morning fog will dissipate and we will have sun! \nGate code:  28346
URL:https://www.lsbcc.org/event/swim-sunday
LOCATION:Los Barrancos
END:VEVENT
BEGIN:VEVENT
DTSTART;TZID=America/Denver:20160724T100000
DTEND;TZID=America/Denver:20160724T110000
DTSTAMP:20260424T082115
CREATED:20160615T174437Z
LAST-MODIFIED:20160615T174437Z
UID:2869-1469354400-1469358000@www.lsbcc.org
SUMMARY:Stephanie Milton
DESCRIPTION:Join us to welcome back\, Stephanie Milton who was one of the guest speakers in Bob Strayer’s class on Global Christianity.Stephanie has been attending seminary at Emory University\, and will be home for the summer.  Last summer she participated in several of our worship services\, and will be back here on July 24th to preach!
URL:https://www.lsbcc.org/event/stephanie-milton
END:VEVENT
BEGIN:VEVENT
DTSTART;TZID=America/Denver:20160715T180000
DTEND;TZID=America/Denver:20160715T210000
DTSTAMP:20260424T082115
CREATED:20110606T034624Z
LAST-MODIFIED:20160615T174024Z
UID:124-1468605600-1468616400@www.lsbcc.org
SUMMARY:Progressive Dinner
DESCRIPTION:Join us at this annual social event! We will enjoy the homes and hospitality of three local families as we nosh our way through the Rio del Mar-La Selva Beach area. Bring an appetizer\, salad or dessert to share. Each course will be served at a different home. Call the church office if you would like to host the entree or dessert. More information and sign-up sheets are located at the rear of the church.
URL:https://www.lsbcc.org/event/progressive-dinner
LOCATION:La Selva Beach Community Church\, 26 Florido Avenue\, La Selva Beach\, 95076\, United States
END:VEVENT
BEGIN:VEVENT
DTSTART;TZID=America/Denver:20160710T140000
DTEND;TZID=America/Denver:20160710T160000
DTSTAMP:20260424T082115
CREATED:20160513T210550Z
LAST-MODIFIED:20160701T201020Z
UID:2850-1468159200-1468166400@www.lsbcc.org
SUMMARY:Installation of Minister of Blue Theology: Deborah Streeter
DESCRIPTION:La Selva Beach Community Church will install Rev. Deborah Streeter as “Minister for Blue Theology\,” in support of ocean conservation and stewardship\, on Sunday July 10 at 2 pm.  26 Florido\, LSB.  All are welcome.\n \n“Our church is full of people who love the ocean.  We believe that our faith includes a responsibility to care for this precious ocean gift.  Deborah is a long time minister and friend of our church who in recent years has developed a special ministry on behalf of ocean stewardship and spirituality.  She leads retreats\, pilgrimages\, writes and preaches about how God loves the ocean and wants us to do a better job loving it.  We are proud to sponsor her ministry with the wider Monterey Bay community.”\n \nDeborah is a volunteer guide at the Monterey Bay Aquarium\, Point Lobos and served for nine years on the Advisory Council of the Monterey Bay National Marine Sanctuary.  She has taught at Pacific School of Religion and in Santa Clara University’s Environmental Studies Dept.\n \nThe United Church of Christ\, like many faith communities\, has long advocated for “care of creation” environmental ministry\, but Deborah’s is the first one specifically focused on oceans and coastlines.  Deborah coined the term “Blue Theology” after seeing so many books and conferences on “Green Theology.”  Since our planet is 75% ocean\, as are our bodies\, she believes environmental ministry must be “blue.”
URL:https://www.lsbcc.org/event/installation-of-minister-of-blue-theology
END:VEVENT
BEGIN:VEVENT
DTSTART;TZID=America/Denver:20160703T190000
DTEND;TZID=America/Denver:20160703T200000
DTSTAMP:20260424T082115
CREATED:20160615T173608Z
LAST-MODIFIED:20160615T173608Z
UID:2866-1467572400-1467576000@www.lsbcc.org
SUMMARY:Annual Ice Cream Social
DESCRIPTION:Join us as LSBCC hosts the 3rd of July Ice Cream Social for the community.\nWe will need volunteers to help with set-up\, serving\, clean-up\, as well as donations of sauces\, strawberries\, candies\, etc.  Please see the sign up at the back of the sanctuary to see how you can help.
URL:https://www.lsbcc.org/event/annual-ice-cream-social-4
END:VEVENT
BEGIN:VEVENT
DTSTART;TZID=America/Denver:20160626T100000
DTEND;TZID=America/Denver:20160626T110000
DTSTAMP:20260424T082115
CREATED:20130526T165704Z
LAST-MODIFIED:20160615T195856Z
UID:1795-1466935200-1466938800@www.lsbcc.org
SUMMARY:Semi-Annual Meeting
DESCRIPTION:Big Biblical Shout-Out and Bike Blessing!\nThe semi-annual meeting of the La Selva Beach Community Church is incorporated into our worship celebration on Sunday\, June 26th\, 10:00am.  This year we are calling this gathering the Big Biblical Shout-out as we celebrate our church’s ministry and mission\, and thank those who have helped start or have participated in new programs this year.  Linda Baker’s band\, Girls and Company\, are singing\, there’s a Social Time after worship hosted by Liz Phair\, and a Blessing of the Bikes in the courtyard.  Bike riders–young\, old\, and in between– wheel your way to church this Sunday\, and we will bless your mode of transportation and pray for your safety this summer!
URL:https://www.lsbcc.org/event/semi-annual-meeting-2
END:VEVENT
BEGIN:VEVENT
DTSTART;TZID=America/Denver:20160625T090000
DTEND;TZID=America/Denver:20160625T150000
DTSTAMP:20260424T082115
CREATED:20160615T172420Z
LAST-MODIFIED:20160615T172420Z
UID:2864-1466845200-1466866800@www.lsbcc.org
SUMMARY:Workshop: Faithful Generations by John Maybry
DESCRIPTION:This workshop will examine the issues each generation faces and how the church can be more effective and sensitive in ministering to each generation. The workshop is from 9-3:00 at the UCC in Campbell. If you are interested in joining Jane\, please contact the church office at 831-688-4033
URL:https://www.lsbcc.org/event/workshop-faithful-generations-by-john-maybry
LOCATION:UCC Campbell
END:VEVENT
BEGIN:VEVENT
DTSTART;TZID=America/Denver:20160619T100000
DTEND;TZID=America/Denver:20160619T230000
DTSTAMP:20260424T082115
CREATED:20160513T211340Z
LAST-MODIFIED:20160513T211340Z
UID:2852-1466330400-1466377200@www.lsbcc.org
SUMMARY:Choir Sunday
DESCRIPTION:
URL:https://www.lsbcc.org/event/choir-sunday
END:VEVENT
BEGIN:VEVENT
DTSTART;VALUE=DATE:20160619
DTEND;VALUE=DATE:20160620
DTSTAMP:20260424T082115
CREATED:20160513T211137Z
LAST-MODIFIED:20160513T211137Z
UID:2854-1466294400-1466380799@www.lsbcc.org
SUMMARY:Happy Father's Day
DESCRIPTION:
URL:https://www.lsbcc.org/event/happy-fathers-day-2
END:VEVENT
BEGIN:VEVENT
DTSTART;TZID=America/Denver:20160522T111500
DTEND;TZID=America/Denver:20160522T133000
DTSTAMP:20260424T082115
CREATED:20150501T225917Z
LAST-MODIFIED:20160513T210918Z
UID:2043-1463915700-1463923800@www.lsbcc.org
SUMMARY:Newcomer's Brunch
DESCRIPTION:You are invited to join us after worship on Sunday\, May 22 for a Newcomer’s Brunch at the home of Marilyn Schultz and Jay Hicks.  Please RSVP to the church office: 688-4033.  Please join us for good food\, stimulating conversation\, the opportunity to become better acquainted with one another and to learn more about the church\, its mission and activities. \n 
URL:https://www.lsbcc.org/event/newcomers-brunch-2
LOCATION:A Member's Home\, La Selva Beach
END:VEVENT
BEGIN:VEVENT
DTSTART;TZID=America/Denver:20160508T100000
DTEND;TZID=America/Denver:20160508T110000
DTSTAMP:20260424T082115
CREATED:20150501T224415Z
LAST-MODIFIED:20160212T055035Z
UID:2040-1462701600-1462705200@www.lsbcc.org
SUMMARY:Festival of Christian Living
DESCRIPTION:  \n 
URL:https://www.lsbcc.org/event/festival-of-christian-living
END:VEVENT
BEGIN:VEVENT
DTSTART;VALUE=DATE:20160430
DTEND;VALUE=DATE:20160501
DTSTAMP:20260424T082115
CREATED:20160312T230108Z
LAST-MODIFIED:20160316T005623Z
UID:2811-1461974400-1462060799@www.lsbcc.org
SUMMARY:Women's Retreat
DESCRIPTION:Women’s Retreat: Still in the planning stages but with the theme of ART and includes a visit to Carmel Galleries\, and lunch in Jill Corrigan’s home.  This event will be lead by resident artist\, Ingrid Glazebrook. Additional details to follow.
URL:https://www.lsbcc.org/event/womens-retreat-2
END:VEVENT
BEGIN:VEVENT
DTSTART;TZID=America/Denver:20160428T193000
DTEND;TZID=America/Denver:20160428T210000
DTSTAMP:20260424T082115
CREATED:20160408T021659Z
LAST-MODIFIED:20160408T023518Z
UID:2823-1461871800-1461877200@www.lsbcc.org
SUMMARY:Ellen Pirie's Armchair Travel Adventure in Ethiopia
DESCRIPTION:Friends and family are invited to join us to hear Ellen Pirie’s Armchair Travel Adventures where she will share her Peace Corps experience in Ethiopia. Ellen\, a former Santa Cruz County Supervisor and longtime member of La Selva Beach Community Church and her husband Terry spent 2 years in Ethiopia for the Peace Corps and traveled extensively throughout Europe after their Peace Corps assignment ended. This promises to be an inspirational and informative evening. \n 
URL:https://www.lsbcc.org/event/ellen-piries-armchair-travel-adventure-in-ethiopia
END:VEVENT
BEGIN:VEVENT
DTSTART;TZID=America/Denver:20160424T230000
DTEND;TZID=America/Denver:20160424T230000
DTSTAMP:20260424T082115
CREATED:20160312T225704Z
LAST-MODIFIED:20160312T225704Z
UID:2810-1461538800-1461538800@www.lsbcc.org
SUMMARY:UCC Beach Day
DESCRIPTION:Worship/Sunday School; That afternoon head to the beach to join members of Peace UCC and Skyland UCC for music\, play and food! Details regarding time will follow shortly.
URL:https://www.lsbcc.org/event/ucc-beach-day
END:VEVENT
BEGIN:VEVENT
DTSTART;TZID=America/Denver:20160412T190000
DTEND;TZID=America/Denver:20160412T200000
DTSTAMP:20260424T082115
CREATED:20160312T225318Z
LAST-MODIFIED:20160312T225318Z
UID:2809-1460487600-1460491200@www.lsbcc.org
SUMMARY:Deacon's Meeting
DESCRIPTION:
URL:https://www.lsbcc.org/event/deacons-meeting-3
END:VEVENT
BEGIN:VEVENT
DTSTART;TZID=America/Denver:20160410T133000
DTEND;TZID=America/Denver:20160410T143000
DTSTAMP:20260424T082115
CREATED:20160312T224928Z
LAST-MODIFIED:20160312T225126Z
UID:2807-1460295000-1460298600@www.lsbcc.org
SUMMARY:Sunday School Team Meeting
DESCRIPTION:
URL:https://www.lsbcc.org/event/sunday-school-team-meeting-at-130pm
END:VEVENT
BEGIN:VEVENT
DTSTART;TZID=America/Denver:20160329T193000
DTEND;TZID=America/Denver:20160329T210000
DTSTAMP:20260424T082115
CREATED:20160312T223537Z
LAST-MODIFIED:20160312T223925Z
UID:2798-1459279800-1459285200@www.lsbcc.org
SUMMARY:Living Well\, Dying Well
DESCRIPTION:For more information and schedule\, see March 22\, 2016
URL:https://www.lsbcc.org/event/living-well-dying-well
END:VEVENT
BEGIN:VEVENT
DTSTART;TZID=America/Denver:20160327T100000
DTEND;TZID=America/Denver:20160327T110000
DTSTAMP:20260424T082115
CREATED:20160312T224746Z
LAST-MODIFIED:20160312T224746Z
UID:2806-1459072800-1459076400@www.lsbcc.org
SUMMARY:Easter Celebration in the Sanctuary
DESCRIPTION:Easter Celebration in the Sanctuary! We’ll raise our voices with “Christ the Lord Is Risen Today\,” hear special music by the Sunday School\, sing a new “Resurrection Day” song written by David\, and ponder the Easter story and its implications for our lives. After worship\, a coffeehour and an Easter Egg Hunt for elementary age children and younger
URL:https://www.lsbcc.org/event/easter-celebration-in-the-sanctuary
END:VEVENT
BEGIN:VEVENT
DTSTART;TZID=America/Denver:20160322T193000
DTEND;TZID=America/Denver:20160322T210000
DTSTAMP:20260424T082115
CREATED:20160312T224141Z
LAST-MODIFIED:20160319T185142Z
UID:2803-1458675000-1458680400@www.lsbcc.org
SUMMARY:Living Well\, Dying Well.
DESCRIPTION:We begin a three part series facilitated by Hospice of Santa Cruz\, entitled\, “Living Well\, Dying Well.” This first evening will be a showing of the movie “Being Mortal” by Atul Gawande\, followed by a short discussion. Dr. Gawande raises important issues around medical care for the dying and the discomfort the medical profession often has discussing chronic illness and death with their patients. An important film for those caring for the aging and those who want to be able to make informed choices. This series is free and we encourage you to invite community members who might be interested in this topic.
URL:https://www.lsbcc.org/event/2803
END:VEVENT
BEGIN:VEVENT
DTSTART;TZID=America/Denver:20160320T095000
DTEND;TZID=America/Denver:20160320T110000
DTSTAMP:20260424T082115
CREATED:20130211T130509Z
LAST-MODIFIED:20160312T222657Z
UID:1681-1458467400-1458471600@www.lsbcc.org
SUMMARY:Palm/Passion Sunday
DESCRIPTION:Join us as we gather in the courtyard at 9:50 for worship instructions and a palm processional into the sanctuary.  Our worship begins with a celebration of Jesus’ joyous entry into Jerusalem\, and ends on a sober note as the story of Jesus’ passion is told through music and narrative.   Communion will be celebrated\, with a special opportunity for students completing class to gather around the Table with their parents. A mid-eastern style coffeehouse will follow.
URL:https://www.lsbcc.org/event/palm-passion-sunday
LOCATION:La Selva Beach Community Church\, 26 Florido Avenue\, La Selva Beach\, 95076\, United States
END:VEVENT
END:VCALENDAR