BEGIN:VCALENDAR
VERSION:2.0
PRODID:-//La Selva Beach Community Church - ECPv6.13.2.1//NONSGML v1.0//EN
CALSCALE:GREGORIAN
METHOD:PUBLISH
X-ORIGINAL-URL:https://www.lsbcc.org
X-WR-CALDESC:Events for La Selva Beach Community Church
REFRESH-INTERVAL;VALUE=DURATION:PT1H
X-Robots-Tag:noindex
X-PUBLISHED-TTL:PT1H
BEGIN:VTIMEZONE
TZID:America/Denver
BEGIN:DAYLIGHT
TZOFFSETFROM:-0700
TZOFFSETTO:-0600
TZNAME:MDT
DTSTART:20190310T090000
END:DAYLIGHT
BEGIN:STANDARD
TZOFFSETFROM:-0600
TZOFFSETTO:-0700
TZNAME:MST
DTSTART:20191103T080000
END:STANDARD
BEGIN:DAYLIGHT
TZOFFSETFROM:-0700
TZOFFSETTO:-0600
TZNAME:MDT
DTSTART:20200308T090000
END:DAYLIGHT
BEGIN:STANDARD
TZOFFSETFROM:-0600
TZOFFSETTO:-0700
TZNAME:MST
DTSTART:20201101T080000
END:STANDARD
BEGIN:DAYLIGHT
TZOFFSETFROM:-0700
TZOFFSETTO:-0600
TZNAME:MDT
DTSTART:20210314T090000
END:DAYLIGHT
BEGIN:STANDARD
TZOFFSETFROM:-0600
TZOFFSETTO:-0700
TZNAME:MST
DTSTART:20211107T080000
END:STANDARD
BEGIN:DAYLIGHT
TZOFFSETFROM:-0700
TZOFFSETTO:-0600
TZNAME:MDT
DTSTART:20220313T090000
END:DAYLIGHT
BEGIN:STANDARD
TZOFFSETFROM:-0600
TZOFFSETTO:-0700
TZNAME:MST
DTSTART:20221106T080000
END:STANDARD
BEGIN:DAYLIGHT
TZOFFSETFROM:-0700
TZOFFSETTO:-0600
TZNAME:MDT
DTSTART:20230312T090000
END:DAYLIGHT
BEGIN:STANDARD
TZOFFSETFROM:-0600
TZOFFSETTO:-0700
TZNAME:MST
DTSTART:20231105T080000
END:STANDARD
END:VTIMEZONE
BEGIN:VEVENT
DTSTART;TZID=America/Denver:20231105T100000
DTEND;TZID=America/Denver:20231105T110000
DTSTAMP:20260423T225116
CREATED:20231008T154409Z
LAST-MODIFIED:20231008T154409Z
UID:5167-1699178400-1699182000@www.lsbcc.org
SUMMARY:Sunday Service
DESCRIPTION:
URL:https://www.lsbcc.org/event/sunday-service-2023-11-05
END:VEVENT
BEGIN:VEVENT
DTSTART;TZID=America/Denver:20231029T100000
DTEND;TZID=America/Denver:20231029T110000
DTSTAMP:20260423T225116
CREATED:20231008T154409Z
LAST-MODIFIED:20231008T154409Z
UID:5166-1698573600-1698577200@www.lsbcc.org
SUMMARY:Sunday Service
DESCRIPTION:
URL:https://www.lsbcc.org/event/sunday-service-2023-10-29
END:VEVENT
BEGIN:VEVENT
DTSTART;TZID=America/Denver:20231022T113000
DTEND;TZID=America/Denver:20231022T130000
DTSTAMP:20260423T225116
CREATED:20230911T201444Z
LAST-MODIFIED:20230911T201444Z
UID:5031-1697974200-1697979600@www.lsbcc.org
SUMMARY:Halloween Art Project with Icy Young
DESCRIPTION:
URL:https://www.lsbcc.org/event/halloween-art-project-with-icy-young
LOCATION:La Selva Beach Community Church Courtyard
END:VEVENT
BEGIN:VEVENT
DTSTART;TZID=America/Denver:20231022T100000
DTEND;TZID=America/Denver:20231022T110000
DTSTAMP:20260423T225116
CREATED:20231008T154409Z
LAST-MODIFIED:20231008T154409Z
UID:5165-1697968800-1697972400@www.lsbcc.org
SUMMARY:Sunday Service
DESCRIPTION:
URL:https://www.lsbcc.org/event/sunday-service-2023-10-22
END:VEVENT
BEGIN:VEVENT
DTSTART;TZID=America/Denver:20231015T100000
DTEND;TZID=America/Denver:20231015T110000
DTSTAMP:20260423T225116
CREATED:20231008T154409Z
LAST-MODIFIED:20231009T122449Z
UID:5163-1697364000-1697367600@www.lsbcc.org
SUMMARY:Sunday Service
DESCRIPTION:
URL:https://www.lsbcc.org/event/sunday-service
END:VEVENT
BEGIN:VEVENT
DTSTART;TZID=America/Denver:20231008T100000
DTEND;TZID=America/Denver:20231008T110000
DTSTAMP:20260423T225116
CREATED:20230911T195858Z
LAST-MODIFIED:20231008T153958Z
UID:5027-1696759200-1696762800@www.lsbcc.org
SUMMARY:Blessing of the Animals
DESCRIPTION:LSB Library Lawn \nAll are welcome at the annual Blessing of the Animals. Bring your animal companion\, properly contained and yourself for a simple blessing and message from Rev. Bonnie. You may bring a photo of pets who cannot join us. There will be music\, refreshments and fun.
URL:https://www.lsbcc.org/event/blessing-of-the-animals-4
END:VEVENT
BEGIN:VEVENT
DTSTART;TZID=America/Denver:20230209T113000
DTEND;TZID=America/Denver:20230209T123000
DTSTAMP:20260423T225116
CREATED:20230105T230140Z
LAST-MODIFIED:20230105T230140Z
UID:5009-1675942200-1675945800@www.lsbcc.org
SUMMARY:Interactive Book Study January 29\, February 5\, 12\, and 19\, 2023
DESCRIPTION:Join us for a 4-week exploration of Celtic wisdom as we read Sacred Earth\, Sacred Soul by John Philip Newell.  Through this book study we will dive deep into Celtic Christian spirituality and its implications for how we encounter God\, creation and one another. \n 
URL:https://www.lsbcc.org/event/interactive-book-study-january-29-february-5-12-and-19-2023-2023-02-09
END:VEVENT
BEGIN:VEVENT
DTSTART;TZID=America/Denver:20230205T113000
DTEND;TZID=America/Denver:20230205T123000
DTSTAMP:20260423T225116
CREATED:20230105T230140Z
LAST-MODIFIED:20230105T230140Z
UID:5008-1675596600-1675600200@www.lsbcc.org
SUMMARY:Interactive Book Study January 29\, February 5\, 12\, and 19\, 2023
DESCRIPTION:Join us for a 4-week exploration of Celtic wisdom as we read Sacred Earth\, Sacred Soul by John Philip Newell.  Through this book study we will dive deep into Celtic Christian spirituality and its implications for how we encounter God\, creation and one another. \n 
URL:https://www.lsbcc.org/event/interactive-book-study-january-29-february-5-12-and-19-2023-2023-02-05
END:VEVENT
BEGIN:VEVENT
DTSTART;TZID=America/Denver:20230202T113000
DTEND;TZID=America/Denver:20230202T123000
DTSTAMP:20260423T225116
CREATED:20230105T230140Z
LAST-MODIFIED:20230105T230140Z
UID:5007-1675337400-1675341000@www.lsbcc.org
SUMMARY:Interactive Book Study January 29\, February 5\, 12\, and 19\, 2023
DESCRIPTION:Join us for a 4-week exploration of Celtic wisdom as we read Sacred Earth\, Sacred Soul by John Philip Newell.  Through this book study we will dive deep into Celtic Christian spirituality and its implications for how we encounter God\, creation and one another. \n 
URL:https://www.lsbcc.org/event/interactive-book-study-january-29-february-5-12-and-19-2023-2023-02-02
END:VEVENT
BEGIN:VEVENT
DTSTART;TZID=America/Denver:20230129T113000
DTEND;TZID=America/Denver:20230129T123000
DTSTAMP:20260423T225116
CREATED:20230105T230140Z
LAST-MODIFIED:20230105T230140Z
UID:5004-1674991800-1674995400@www.lsbcc.org
SUMMARY:Interactive Book Study January 29\, February 5\, 12\, and 19\, 2023
DESCRIPTION:Join us for a 4-week exploration of Celtic wisdom as we read Sacred Earth\, Sacred Soul by John Philip Newell.  Through this book study we will dive deep into Celtic Christian spirituality and its implications for how we encounter God\, creation and one another. \n 
URL:https://www.lsbcc.org/event/interactive-book-study-january-29-february-5-12-and-19-2023
END:VEVENT
BEGIN:VEVENT
DTSTART;TZID=America/Denver:20220703T190000
DTEND;TZID=America/Denver:20220703T203000
DTSTAMP:20260423T225116
CREATED:20220621T173434Z
LAST-MODIFIED:20220626T020553Z
UID:4880-1656874800-1656880200@www.lsbcc.org
SUMMARY:Ice Cream Social
DESCRIPTION:Join us for this long-standing La Selva Beach tradition!  Everyone is welcome.   We’ll gather at 7 pm at the Library Lawn to listen to live music by Harmony Blue comprised of local musicians. Enjoy a bowl of ice cream and add your favorite toppings. \nTo protect the beautiful\, new library lawn\, please bring a blanket to sit on or use one of the provided chairs.  Masks are encouraged. \nWant to volunteer or help with supplies?  Click on the link below.
URL:https://www.lsbcc.org/event/ice-cream-social-2
LOCATION:La Selva Beach Library Lawn\, 26 Florido Avenue\, La Selva Beach
END:VEVENT
BEGIN:VEVENT
DTSTART;TZID=America/Denver:20220626T100000
DTEND;TZID=America/Denver:20220626T110000
DTSTAMP:20260423T225116
CREATED:20220621T211058Z
LAST-MODIFIED:20220621T211118Z
UID:4885-1656237600-1656241200@www.lsbcc.org
SUMMARY:All-Music Worship
DESCRIPTION:Please join us for an all-music worship service.  We’ll hear music from our congregation\, music director\, and our virtual acapella group.  We’ll sing favorite hymns and rejoice in God’s faithfulness to us.  All are welcome! \nI will sing of the LORD’s great love forever; with my mouth I will make your faithfulness known through all generations. I will declare that your love stands firm forever\, that you have established your faithfulness in heaven itself. -Psalm 89 \nZoom with us or join us in person.  Zoomers join by 10 am\, service begins at 10:15.  Contact the church office for an invitation to zoom.
URL:https://www.lsbcc.org/event/all-music-worship
LOCATION:La Selva Beach Community Church\, 26 Florido Avenue\, La Selva Beach\, 95076\, United States
END:VEVENT
BEGIN:VEVENT
DTSTART;TZID=America/Denver:20211224T193000
DTEND;TZID=America/Denver:20211224T210000
DTSTAMP:20260423T225116
CREATED:20211223T181051Z
LAST-MODIFIED:20211223T181051Z
UID:4858-1640374200-1640379600@www.lsbcc.org
SUMMARY:Christmas Eve Service
DESCRIPTION:Dear Friends and Members of LSBCC\,\n\nSome of you have called in to let me know you would like a seat in the sanctuary for our 7:30PM Christmas Eve Worship.  Currently\, I have heard from 32 of you that you would like to be physically present\, and that you are willing to abide by the protocols established by the Council and the Safely Reopen Subcommittee.\n\nOur capacity cap has been set at 50\, so if you have been thinking about attending Christmas Eve in person\, please call the church office by Thursday noon\, so we can plan seating for you.\n\nOur safety protocols are attached below in a document called Christmas Eve Hybrid Update.  Basically\, we are asking everyone who comes to be fully vaccinated\, to wear a CDC recommended mask properly over nose and mouth\, to understand that the sanctuary may be chilly because the windows will be open–you are welcome to bring a cozy blanket\, and that out of respect for community health\, you will worship from home if you have been recently exposed to Covid or have any symptoms of a cold\, cough\, flu\, or Covid.  Please carefully read the attached document below the letter stationery\, so you understand the parameters for in person worship.\n\nAll of us in these strange times must assess our own tolerance for risk.  Whether you choose to come in person to worship on Christmas Eve or worship with us virtually\, I pray\nthat together\, we will have a meaningful and joyful Christmas celebrating the birth of the Christ-Child and what that means for our lives!\n\nA zoom link will be made available to our virtual worshippers early Friday afternoon.\nI encourage virtual worshippers to have a candle\, the light of which we will all share at the end of our worship.\n \nHow I look forward to seeing you\, whether virtually or in person\, Friday night\, Christmas Eve at 7:30pm!  Danielle Crook and David Larstein have beautiful music to share with us as we think about the oh so familiar story perhaps in a new way.\n\nWith love\,\nJane
URL:https://www.lsbcc.org/event/christmas-eve-service-2
END:VEVENT
BEGIN:VEVENT
DTSTART;TZID=America/Denver:20210926T100000
DTEND;TZID=America/Denver:20210926T110000
DTSTAMP:20260423T225116
CREATED:20210909T163416Z
LAST-MODIFIED:20210916T161637Z
UID:4540-1632650400-1632654000@www.lsbcc.org
SUMMARY:Sunday Worship "Love of Children": Ranell Durgan talk
DESCRIPTION:Sep. 26th: 10:00am Worship “Love of Children” Guest Speaker Series\nRanell Durgan from Siena House shares her story about the great work Siena House is doing\, helping mothers and babies in Santa Cruz County.\nIn person and Virtual Worship via Zoom.\nFor joining virtually\, please contact the church office for a zoom link invite.\nFor joining in person\, please review our guidelines by clicking here
URL:https://www.lsbcc.org/event/sunday-worship-2021-09-26
END:VEVENT
BEGIN:VEVENT
DTSTART;TZID=America/Denver:20210919T100000
DTEND;TZID=America/Denver:20210919T110000
DTSTAMP:20260423T225116
CREATED:20210909T163416Z
LAST-MODIFIED:20210916T161408Z
UID:4538-1632045600-1632049200@www.lsbcc.org
SUMMARY:Sunday Worship "Love of Children": Survivors Healing Center talk
DESCRIPTION:Sep. 19th: 10:00am Worship “Love of Children” Guest Speaker Series\nSurvivors Healing Center with Q&A after worship.\nIn person and Virtual Worship via Zoom.\nFor joining virtually\, please contact the church office for a zoom link invite.\nFor joining in person\, please review our guidelines by clicking here
URL:https://www.lsbcc.org/event/sunday-worship-2021-09-19
END:VEVENT
BEGIN:VEVENT
DTSTART;TZID=America/Denver:20210912T100000
DTEND;TZID=America/Denver:20210912T110000
DTSTAMP:20260423T225116
CREATED:20210909T163416Z
LAST-MODIFIED:20210909T170159Z
UID:4535-1631440800-1631444400@www.lsbcc.org
SUMMARY:Sunday Worship "Love of Children": Maguire family talk
DESCRIPTION:Sep. 12th: 10:00am Worship “Love of Children” Guest Speaker Series\nJenn Maguire and family share their Tecate Mexico Mission trip story.\nIn person and Virtual Worship via Zoom.\nFor joining virtually\, please contact the church office for a zoom link invite.\nFor joining in person\, please review our guidelines here (coming soon)
URL:https://www.lsbcc.org/event/sunday-worship
END:VEVENT
BEGIN:VEVENT
DTSTART;TZID=America/Denver:20210502T130000
DTEND;TZID=America/Denver:20210502T150000
DTSTAMP:20260423T225116
CREATED:20210421T143151Z
LAST-MODIFIED:20210423T162914Z
UID:4527-1619960400-1619967600@www.lsbcc.org
SUMMARY:Mini Earth Day (New Date!)
DESCRIPTION:“Love of Creation” mini earth day event in the La Selva Beach Community Church parking lot. Click here to see the flier \n 
URL:https://www.lsbcc.org/event/mini-earth-day
END:VEVENT
BEGIN:VEVENT
DTSTART;TZID=America/Denver:20210404T063000
DTEND;TZID=America/Denver:20210404T073000
DTSTAMP:20260423T225117
CREATED:20210402T161538Z
LAST-MODIFIED:20210402T161638Z
UID:4518-1617517800-1617521400@www.lsbcc.org
SUMMARY:Easter Sunrise Service
DESCRIPTION:We invite you to join us for a simple Easter Sunrise Service on Sunday\, April 4th\, 6:30am on the La Selva Beach Bluff overlooking the ocean. Together\, we’ll do some praying\, singing\, stretching\, praising\, and giving thanks for the Good News of Easter. Please dress warmly\, wear a mask\, practice social distancing\, and bring a chair if you’d like.
URL:https://www.lsbcc.org/event/easter-sunrise-service-3
END:VEVENT
BEGIN:VEVENT
DTSTART;TZID=America/Denver:20201224T193000
DTEND;TZID=America/Denver:20201224T210000
DTSTAMP:20260423T225117
CREATED:20201222T185101Z
LAST-MODIFIED:20210117T184644Z
UID:4505-1608838200-1608843600@www.lsbcc.org
SUMMARY:
DESCRIPTION:Please join us for our Christmas Eve virtual worship\, beginning at 7:30pm on Thursday\, December 24th.  Though we won’t be gathering in the church\, and we’ll miss singing the carols together\, we will still fill the holy night with music and light!  Christmas will be different this year\, but it comes just the same.  Bring a candle to your worshipping space….contact us through the website for the zoom link or call us at 688.4033.  Please connect to us at 7:15pm–We look forward to your presence with us!
URL:https://www.lsbcc.org/event/4505
END:VEVENT
BEGIN:VEVENT
DTSTART;TZID=America/Denver:20201219T190000
DTEND;TZID=America/Denver:20201219T200000
DTSTAMP:20260423T225117
CREATED:20201217T232502Z
LAST-MODIFIED:20201220T182850Z
UID:4496-1608404400-1608408000@www.lsbcc.org
SUMMARY:Christmas Party
DESCRIPTION:Christmas Party! On zoom. Christmas Play by our young thespians! Music\, Poems\, Prayer\, Cookies\, Quiz Show\, Christmas Photo Collage! It’s our First Ever Virtual Christmas Party this Saturday at 7PM. Put on your festive jingle wear\, come and sing\, enjoy the Children’s play\, a holiday slideshow\, games and more. Pick up your cookie bag in the church parking lot Sat 1-2pm. Watch for email with the link to join\, or use the “Contact Us” form to send an email to the church to ask for an invite.
URL:https://www.lsbcc.org/event/christmas-party
END:VEVENT
BEGIN:VEVENT
DTSTART;TZID=America/Denver:20200816T100000
DTEND;TZID=America/Denver:20200816T110000
DTSTAMP:20260423T225117
CREATED:20200811T155230Z
LAST-MODIFIED:20200811T155511Z
UID:4451-1597572000-1597575600@www.lsbcc.org
SUMMARY:Sunday Worship on Zoom
DESCRIPTION:Sunday Worship Services are provided via Zoom each Sunday at 10:00.  Participate with us in worship\, song\, prayer and reflection on the spiritual promises of our faith.  All are welcome! \nJoin us by contacting the church office at (831) 688-4033 or laselvabeachcc@sbcglobal.net to receive your Zoom invitation email. \nJoin us at 10:00 each Sunday. Contact the office for information.
URL:https://www.lsbcc.org/event/sunday-worship-on-zoom
END:VEVENT
BEGIN:VEVENT
DTSTART;TZID=America/Denver:20200412T100000
DTEND;TZID=America/Denver:20200412T110000
DTSTAMP:20260423T225117
CREATED:20200410T211632Z
LAST-MODIFIED:20200410T211632Z
UID:4137-1586685600-1586689200@www.lsbcc.org
SUMMARY:Easter Service Live on Zoom
DESCRIPTION:Join us as we celebrate Easter Sunday Service together on Zoom.  Please call our office to be put on our invitation list at (831) 688-4033.  You can access Zoom via you home phone\, computer\, or smart phone.  All are Welcome!
URL:https://www.lsbcc.org/event/easter-service-live-on-zoom
END:VEVENT
BEGIN:VEVENT
DTSTART;TZID=America/Denver:20200412T100000
DTEND;TZID=America/Denver:20200412T110000
DTSTAMP:20260423T225117
CREATED:20200410T210703Z
LAST-MODIFIED:20200714T204953Z
UID:4127-1586685600-1586689200@www.lsbcc.org
SUMMARY:Join us for Worship on Zoom
DESCRIPTION:Due to the Covid-19 County Health Guidelines\, all meetings and worship gatherings in our church building have ceased.  However\, we continue to Be the Church even if we are not meeting and worshipping in the same ways.  Please join us on Sunday mornings for Worship on Zoom with your computer\, phone or smart phone.  Call the church office and we will add you to our invitation list.  (831) 688-4033.
URL:https://www.lsbcc.org/event/join-us-for-worship-on-zoom
END:VEVENT
BEGIN:VEVENT
DTSTART;TZID=America/Denver:20200229T120000
DTEND;TZID=America/Denver:20200229T140000
DTSTAMP:20260423T225117
CREATED:20200207T041012Z
LAST-MODIFIED:20200207T041012Z
UID:4106-1582977600-1582984800@www.lsbcc.org
SUMMARY:Mending Bee
DESCRIPTION:Saturday\, February 29th\, from 12 pm to 2.  This is an opportunity for anyone in the community to bring their mending needs.  We will have sewers on hand to help repair any garments that are in need of a little care.  Please stay awhile\, as your items are tended to\, and have some cookies and coffee while you wait.  Call the church office for a reservation:  (831) 688-4033
URL:https://www.lsbcc.org/event/mending-bee
LOCATION:La Selva Beach Community Church\, 26 Florido Avenue\, La Selva Beach\, 95076\, United States
END:VEVENT
BEGIN:VEVENT
DTSTART;TZID=America/Denver:20200226T193000
DTEND;TZID=America/Denver:20200226T203000
DTSTAMP:20260423T225117
CREATED:20200207T033822Z
LAST-MODIFIED:20200207T033822Z
UID:4100-1582745400-1582749000@www.lsbcc.org
SUMMARY:Ash Wednesday Service
DESCRIPTION:Join us February 26 at 7:30 pm for an informal and intimate worship service.  Seated around a table\, we will mark the beginning of Lent with prayer\, music\, scripture and communion.  Reverend Jane will provide the imposition of ashes\, marking our mortality and giving us the opportunity to set an intention for Lent.  All are welcome to this special service.
URL:https://www.lsbcc.org/event/ash-wednesday-service-3
LOCATION:La Selva Beach Community Church\, 26 Florido Avenue\, La Selva Beach\, 95076\, United States
END:VEVENT
BEGIN:VEVENT
DTSTART;TZID=America/Denver:20200221T180000
DTEND;TZID=America/Denver:20200221T203000
DTSTAMP:20260423T225117
CREATED:20200207T033221Z
LAST-MODIFIED:20200207T033221Z
UID:4097-1582308000-1582317000@www.lsbcc.org
SUMMARY:5th Annual Chili Cook-off
DESCRIPTION:Join us Friday\, February 21st as we serve up some mean chili at Resurrection’s Chili Cook-off!  All proceeds go to the Mid County Homeless Coalition’s Mobile Showers.  We hope to win another prize!!  Join us at Resurrection Church Community Hall at 7600 Soquel Drive\, Aptos. \n 
URL:https://www.lsbcc.org/event/5th-annual-chili-cook-off
LOCATION:Resurrection Catholic Church\, 7600 Soquel Drive\, Aptos\, CA\, United States
END:VEVENT
BEGIN:VEVENT
DTSTART;TZID=America/Denver:20191224T193000
DTEND;TZID=America/Denver:20191224T210000
DTSTAMP:20260423T225117
CREATED:20191206T013935Z
LAST-MODIFIED:20191206T013935Z
UID:4082-1577215800-1577221200@www.lsbcc.org
SUMMARY:Christmas Eve Service
DESCRIPTION:Join with us as we gather on this holiest of nights for a special Christmas Service.  Bring your friends and family to hear the Christmas Story and ponder the true meaning of the night.  We’ll share beautiful music and have a candlelight vigil.  All are welcome! \n 
URL:https://www.lsbcc.org/event/christmas-eve-service
END:VEVENT
BEGIN:VEVENT
DTSTART;TZID=America/Denver:20191124T100000
DTEND;TZID=America/Denver:20191124T110000
DTSTAMP:20260423T225117
CREATED:20190923T220849Z
LAST-MODIFIED:20190923T220849Z
UID:4065-1574589600-1574593200@www.lsbcc.org
SUMMARY:Thanksgiving Sunday
DESCRIPTION:Come join us on Sunday\, November 24 at 10:00 for our Thanksgiving Sunday Service. \nThis is the day we celebrate and give thanks to our faithful God for all the blessings in our lives.  We also set this day aside each year to rededicate ourselves to our mission.  All are welcome!
URL:https://www.lsbcc.org/event/thanksgiving-sunday
LOCATION:La Selva Beach Community Church\, 26 Florido Avenue\, La Selva Beach\, 95076\, United States
END:VEVENT
BEGIN:VEVENT
DTSTART;TZID=America/Denver:20191110T100000
DTEND;TZID=America/Denver:20191110T110000
DTSTAMP:20260423T225117
CREATED:20191024T014535Z
LAST-MODIFIED:20191024T014535Z
UID:4072-1573380000-1573383600@www.lsbcc.org
SUMMARY:Special Musical Guests\, Caravan El Noor!
DESCRIPTION:Open to everyone! 
URL:https://www.lsbcc.org/event/special-musical-guests-caravan-el-noor
END:VEVENT
BEGIN:VEVENT
DTSTART;TZID=America/Denver:20191026T090000
DTEND;TZID=America/Denver:20191026T150000
DTSTAMP:20260423T225117
CREATED:20190919T191210Z
LAST-MODIFIED:20190920T191858Z
UID:4058-1572080400-1572102000@www.lsbcc.org
SUMMARY:Women's Retreat
DESCRIPTION:Saturday October 26th\, 2019 \nJoin us for an all Day Retreat in Carmel Valley led by Marti Mariette.  Using ideas from the world of Improv\, we will share the day\, build optimism\, refresh perspective and reconnect to the treasures of each moment.  The day will conclude with a simple art project to keep as a reminder to continue in the spirit of play.  Come play\, reconnect to your sense of wonder and joy! \nLimited to 20\, lunch will be served.  Please contact the church office to make your reservation.  831.688.4033 \n 
URL:https://www.lsbcc.org/event/womens-retreat-3
END:VEVENT
END:VCALENDAR