BEGIN:VCALENDAR
VERSION:2.0
PRODID:-//La Selva Beach Community Church - ECPv6.13.2.1//NONSGML v1.0//EN
CALSCALE:GREGORIAN
METHOD:PUBLISH
X-ORIGINAL-URL:https://www.lsbcc.org
X-WR-CALDESC:Events for La Selva Beach Community Church
REFRESH-INTERVAL;VALUE=DURATION:PT1H
X-Robots-Tag:noindex
X-PUBLISHED-TTL:PT1H
BEGIN:VTIMEZONE
TZID:America/Denver
BEGIN:DAYLIGHT
TZOFFSETFROM:-0700
TZOFFSETTO:-0600
TZNAME:MDT
DTSTART:20240310T090000
END:DAYLIGHT
BEGIN:STANDARD
TZOFFSETFROM:-0600
TZOFFSETTO:-0700
TZNAME:MST
DTSTART:20241103T080000
END:STANDARD
BEGIN:DAYLIGHT
TZOFFSETFROM:-0700
TZOFFSETTO:-0600
TZNAME:MDT
DTSTART:20250309T090000
END:DAYLIGHT
BEGIN:STANDARD
TZOFFSETFROM:-0600
TZOFFSETTO:-0700
TZNAME:MST
DTSTART:20251102T080000
END:STANDARD
END:VTIMEZONE
BEGIN:VEVENT
DTSTART;TZID=America/Denver:20251123T100000
DTEND;TZID=America/Denver:20251123T130000
DTSTAMP:20260423T084044
CREATED:20251113T210517Z
LAST-MODIFIED:20251113T210517Z
UID:5333-1763892000-1763902800@www.lsbcc.org
SUMMARY:Thanksgiving Service
DESCRIPTION:November 23\, 2025 at 10 am\, Potluck at 11. All are welcome to join us for a morning of gratitude and fellowship.
URL:https://www.lsbcc.org/event/thanksgiving-service
LOCATION:La Selva Beach Community Church\, 26 Florido Avenue\, La Selva Beach\, 95076\, United States
END:VEVENT
BEGIN:VEVENT
DTSTART;TZID=America/Denver:20250525T100000
DTEND;TZID=America/Denver:20250525T110000
DTSTAMP:20260423T084044
CREATED:20231008T154409Z
LAST-MODIFIED:20231008T154409Z
UID:5264-1748167200-1748170800@www.lsbcc.org
SUMMARY:Sunday Service
DESCRIPTION:
URL:https://www.lsbcc.org/event/sunday-service-2025-05-25
END:VEVENT
BEGIN:VEVENT
DTSTART;TZID=America/Denver:20250518T100000
DTEND;TZID=America/Denver:20250518T110000
DTSTAMP:20260423T084044
CREATED:20231008T154409Z
LAST-MODIFIED:20231008T154409Z
UID:5263-1747562400-1747566000@www.lsbcc.org
SUMMARY:Sunday Service
DESCRIPTION:
URL:https://www.lsbcc.org/event/sunday-service-2025-05-18
END:VEVENT
BEGIN:VEVENT
DTSTART;TZID=America/Denver:20250511T100000
DTEND;TZID=America/Denver:20250511T110000
DTSTAMP:20260423T084044
CREATED:20231008T154409Z
LAST-MODIFIED:20231008T154409Z
UID:5262-1746957600-1746961200@www.lsbcc.org
SUMMARY:Sunday Service
DESCRIPTION:
URL:https://www.lsbcc.org/event/sunday-service-2025-05-11
END:VEVENT
BEGIN:VEVENT
DTSTART;TZID=America/Denver:20250504T100000
DTEND;TZID=America/Denver:20250504T110000
DTSTAMP:20260423T084044
CREATED:20231008T154409Z
LAST-MODIFIED:20231008T154409Z
UID:5261-1746352800-1746356400@www.lsbcc.org
SUMMARY:Sunday Service
DESCRIPTION:
URL:https://www.lsbcc.org/event/sunday-service-2025-05-04
END:VEVENT
BEGIN:VEVENT
DTSTART;TZID=America/Denver:20250427T100000
DTEND;TZID=America/Denver:20250427T110000
DTSTAMP:20260423T084044
CREATED:20231008T154409Z
LAST-MODIFIED:20231008T154409Z
UID:5260-1745748000-1745751600@www.lsbcc.org
SUMMARY:Sunday Service
DESCRIPTION:
URL:https://www.lsbcc.org/event/sunday-service-2025-04-27
END:VEVENT
BEGIN:VEVENT
DTSTART;TZID=America/Denver:20250420T100000
DTEND;TZID=America/Denver:20250420T110000
DTSTAMP:20260423T084044
CREATED:20231008T154409Z
LAST-MODIFIED:20231008T154409Z
UID:5259-1745143200-1745146800@www.lsbcc.org
SUMMARY:Sunday Service
DESCRIPTION:
URL:https://www.lsbcc.org/event/sunday-service-2025-04-20
END:VEVENT
BEGIN:VEVENT
DTSTART;TZID=America/Denver:20250413T100000
DTEND;TZID=America/Denver:20250413T110000
DTSTAMP:20260423T084044
CREATED:20231008T154409Z
LAST-MODIFIED:20231008T154409Z
UID:5258-1744538400-1744542000@www.lsbcc.org
SUMMARY:Sunday Service
DESCRIPTION:
URL:https://www.lsbcc.org/event/sunday-service-2025-04-13
END:VEVENT
BEGIN:VEVENT
DTSTART;TZID=America/Denver:20250406T100000
DTEND;TZID=America/Denver:20250406T110000
DTSTAMP:20260423T084044
CREATED:20231008T154409Z
LAST-MODIFIED:20231008T154409Z
UID:5257-1743933600-1743937200@www.lsbcc.org
SUMMARY:Sunday Service
DESCRIPTION:
URL:https://www.lsbcc.org/event/sunday-service-2025-04-06
END:VEVENT
BEGIN:VEVENT
DTSTART;TZID=America/Denver:20250330T100000
DTEND;TZID=America/Denver:20250330T110000
DTSTAMP:20260423T084044
CREATED:20231008T154409Z
LAST-MODIFIED:20231008T154409Z
UID:5256-1743328800-1743332400@www.lsbcc.org
SUMMARY:Sunday Service
DESCRIPTION:
URL:https://www.lsbcc.org/event/sunday-service-2025-03-30
END:VEVENT
BEGIN:VEVENT
DTSTART;TZID=America/Denver:20250323T100000
DTEND;TZID=America/Denver:20250323T110000
DTSTAMP:20260423T084044
CREATED:20231008T154409Z
LAST-MODIFIED:20231008T154409Z
UID:5255-1742724000-1742727600@www.lsbcc.org
SUMMARY:Sunday Service
DESCRIPTION:
URL:https://www.lsbcc.org/event/sunday-service-2025-03-23
END:VEVENT
BEGIN:VEVENT
DTSTART;TZID=America/Denver:20250316T100000
DTEND;TZID=America/Denver:20250316T110000
DTSTAMP:20260423T084044
CREATED:20231008T154409Z
LAST-MODIFIED:20231008T154409Z
UID:5254-1742119200-1742122800@www.lsbcc.org
SUMMARY:Sunday Service
DESCRIPTION:
URL:https://www.lsbcc.org/event/sunday-service-2025-03-16
END:VEVENT
BEGIN:VEVENT
DTSTART;TZID=America/Denver:20250309T100000
DTEND;TZID=America/Denver:20250309T110000
DTSTAMP:20260423T084044
CREATED:20231008T154409Z
LAST-MODIFIED:20231008T154409Z
UID:5253-1741514400-1741518000@www.lsbcc.org
SUMMARY:Sunday Service
DESCRIPTION:
URL:https://www.lsbcc.org/event/sunday-service-2025-03-09
END:VEVENT
BEGIN:VEVENT
DTSTART;TZID=America/Denver:20250302T100000
DTEND;TZID=America/Denver:20250302T110000
DTSTAMP:20260423T084044
CREATED:20231008T154409Z
LAST-MODIFIED:20231008T154409Z
UID:5252-1740909600-1740913200@www.lsbcc.org
SUMMARY:Sunday Service
DESCRIPTION:
URL:https://www.lsbcc.org/event/sunday-service-2025-03-02
END:VEVENT
BEGIN:VEVENT
DTSTART;TZID=America/Denver:20250223T100000
DTEND;TZID=America/Denver:20250223T110000
DTSTAMP:20260423T084044
CREATED:20231008T154409Z
LAST-MODIFIED:20231008T154409Z
UID:5251-1740304800-1740308400@www.lsbcc.org
SUMMARY:Sunday Service
DESCRIPTION:
URL:https://www.lsbcc.org/event/sunday-service-2025-02-23
END:VEVENT
BEGIN:VEVENT
DTSTART;TZID=America/Denver:20250216T100000
DTEND;TZID=America/Denver:20250216T110000
DTSTAMP:20260423T084044
CREATED:20231008T154409Z
LAST-MODIFIED:20231008T154409Z
UID:5250-1739700000-1739703600@www.lsbcc.org
SUMMARY:Sunday Service
DESCRIPTION:
URL:https://www.lsbcc.org/event/sunday-service-2025-02-16
END:VEVENT
BEGIN:VEVENT
DTSTART;TZID=America/Denver:20250209T100000
DTEND;TZID=America/Denver:20250209T110000
DTSTAMP:20260423T084044
CREATED:20231008T154409Z
LAST-MODIFIED:20231008T154409Z
UID:5249-1739095200-1739098800@www.lsbcc.org
SUMMARY:Sunday Service
DESCRIPTION:
URL:https://www.lsbcc.org/event/sunday-service-2025-02-09
END:VEVENT
BEGIN:VEVENT
DTSTART;TZID=America/Denver:20250202T100000
DTEND;TZID=America/Denver:20250202T110000
DTSTAMP:20260423T084044
CREATED:20231008T154409Z
LAST-MODIFIED:20231008T154409Z
UID:5248-1738490400-1738494000@www.lsbcc.org
SUMMARY:Sunday Service
DESCRIPTION:
URL:https://www.lsbcc.org/event/sunday-service-2025-02-02
END:VEVENT
BEGIN:VEVENT
DTSTART;TZID=America/Denver:20250126T100000
DTEND;TZID=America/Denver:20250126T110000
DTSTAMP:20260423T084044
CREATED:20231008T154409Z
LAST-MODIFIED:20231008T154409Z
UID:5247-1737885600-1737889200@www.lsbcc.org
SUMMARY:Sunday Service
DESCRIPTION:
URL:https://www.lsbcc.org/event/sunday-service-2025-01-26
END:VEVENT
BEGIN:VEVENT
DTSTART;TZID=America/Denver:20250119T100000
DTEND;TZID=America/Denver:20250119T110000
DTSTAMP:20260423T084044
CREATED:20231008T154409Z
LAST-MODIFIED:20231008T154409Z
UID:5246-1737280800-1737284400@www.lsbcc.org
SUMMARY:Sunday Service
DESCRIPTION:
URL:https://www.lsbcc.org/event/sunday-service-2025-01-19
END:VEVENT
BEGIN:VEVENT
DTSTART;TZID=America/Denver:20250112T100000
DTEND;TZID=America/Denver:20250112T110000
DTSTAMP:20260423T084044
CREATED:20231008T154409Z
LAST-MODIFIED:20231008T154409Z
UID:5245-1736676000-1736679600@www.lsbcc.org
SUMMARY:Sunday Service
DESCRIPTION:
URL:https://www.lsbcc.org/event/sunday-service-2025-01-12
END:VEVENT
BEGIN:VEVENT
DTSTART;TZID=America/Denver:20250105T100000
DTEND;TZID=America/Denver:20250105T110000
DTSTAMP:20260423T084044
CREATED:20231008T154409Z
LAST-MODIFIED:20231008T154409Z
UID:5244-1736071200-1736074800@www.lsbcc.org
SUMMARY:Sunday Service
DESCRIPTION:
URL:https://www.lsbcc.org/event/sunday-service-2025-01-05
END:VEVENT
BEGIN:VEVENT
DTSTART;TZID=America/Denver:20241229T100000
DTEND;TZID=America/Denver:20241229T110000
DTSTAMP:20260423T084044
CREATED:20231008T154409Z
LAST-MODIFIED:20231008T154409Z
UID:5243-1735466400-1735470000@www.lsbcc.org
SUMMARY:Sunday Service
DESCRIPTION:
URL:https://www.lsbcc.org/event/sunday-service-2024-12-29
END:VEVENT
BEGIN:VEVENT
DTSTART;TZID=America/Denver:20241222T100000
DTEND;TZID=America/Denver:20241222T110000
DTSTAMP:20260423T084044
CREATED:20231008T154409Z
LAST-MODIFIED:20231008T154409Z
UID:5242-1734861600-1734865200@www.lsbcc.org
SUMMARY:Sunday Service
DESCRIPTION:
URL:https://www.lsbcc.org/event/sunday-service-2024-12-22
END:VEVENT
BEGIN:VEVENT
DTSTART;TZID=America/Denver:20241215T100000
DTEND;TZID=America/Denver:20241215T110000
DTSTAMP:20260423T084044
CREATED:20231008T154409Z
LAST-MODIFIED:20231008T154409Z
UID:5241-1734256800-1734260400@www.lsbcc.org
SUMMARY:Sunday Service
DESCRIPTION:
URL:https://www.lsbcc.org/event/sunday-service-2024-12-15
END:VEVENT
BEGIN:VEVENT
DTSTART;TZID=America/Denver:20241208T100000
DTEND;TZID=America/Denver:20241208T110000
DTSTAMP:20260423T084044
CREATED:20231008T154409Z
LAST-MODIFIED:20231008T154409Z
UID:5224-1733652000-1733655600@www.lsbcc.org
SUMMARY:Sunday Service
DESCRIPTION:
URL:https://www.lsbcc.org/event/sunday-service-2024-12-08
END:VEVENT
BEGIN:VEVENT
DTSTART;TZID=America/Denver:20241201T100000
DTEND;TZID=America/Denver:20241201T110000
DTSTAMP:20260423T084044
CREATED:20231008T154409Z
LAST-MODIFIED:20231008T154409Z
UID:5223-1733047200-1733050800@www.lsbcc.org
SUMMARY:Sunday Service
DESCRIPTION:
URL:https://www.lsbcc.org/event/sunday-service-2024-12-01
END:VEVENT
BEGIN:VEVENT
DTSTART;TZID=America/Denver:20241124T100000
DTEND;TZID=America/Denver:20241124T110000
DTSTAMP:20260423T084044
CREATED:20231008T154409Z
LAST-MODIFIED:20231008T154409Z
UID:5222-1732442400-1732446000@www.lsbcc.org
SUMMARY:Sunday Service
DESCRIPTION:
URL:https://www.lsbcc.org/event/sunday-service-2024-11-24
END:VEVENT
BEGIN:VEVENT
DTSTART;TZID=America/Denver:20241117T100000
DTEND;TZID=America/Denver:20241117T110000
DTSTAMP:20260423T084044
CREATED:20231008T154409Z
LAST-MODIFIED:20231008T154409Z
UID:5221-1731837600-1731841200@www.lsbcc.org
SUMMARY:Sunday Service
DESCRIPTION:
URL:https://www.lsbcc.org/event/sunday-service-2024-11-17
END:VEVENT
BEGIN:VEVENT
DTSTART;TZID=America/Denver:20241110T100000
DTEND;TZID=America/Denver:20241110T110000
DTSTAMP:20260423T084044
CREATED:20231008T154409Z
LAST-MODIFIED:20231008T154409Z
UID:5220-1731232800-1731236400@www.lsbcc.org
SUMMARY:Sunday Service
DESCRIPTION:
URL:https://www.lsbcc.org/event/sunday-service-2024-11-10
END:VEVENT
END:VCALENDAR